BEGIN:VCALENDAR
VERSION:2.0
PRODID:-//ChamberMaster//Event Calendar 2.0//EN
METHOD:PUBLISH
X-PUBLISHED-TTL:P3D
REFRESH-INTERVAL:P3D
CALSCALE:GREGORIAN
BEGIN:VEVENT
DTSTART:20211203T210000Z
DTEND:20211204T010000Z
X-MICROSOFT-CDO-ALLDAYEVENT:FALSE
SUMMARY:Manchester Holiday Stroll
DESCRIPTION:Stroll through beautiful Downtown Manchester by the Sea - picturesque and quaint! Many local shops will be open\, offering discounts and refreshments to strollers! Take part in the drawing to win a great prize! There are two grand prizes this year. The grand prize for adults is 1 pair of Apple Air Pods Pro and for kids\, it is the new Fire HD Kids Pro Tablet.  \n\n\n\nTo participate in this drawing\, get your passbook stamped by 10 out of 11 participating businesses listed\, on Friday evening December 3\, between 4 PM and 8 PM. When your passbook is complete\, please return it to the Antique Table by 8:15PM. \n\n\n\nThe prize drawing will be held at the Antique Table at 8:30 PM.
X-ALT-DESC;FMTTYPE=text/html:Stroll through beautiful Downtown Manchester by the Sea - picturesque and quaint! Many local shops will be open\, offering discounts and refreshments to strollers! Take part in the drawing to win a great prize! There are two grand prizes this year. The grand prize for adults is 1 pair of Apple Air Pods Pro and for kids\, it is the new Fire HD Kids Pro Tablet.&nbsp\;&nbsp\;<br />\n<br />\nTo participate in this drawing\, get your passbook stamped by 10 out of 11 participating businesses listed\, on Friday evening December 3\, between 4 PM and 8 PM. When your passbook is complete\, please return it to the Antique Table by 8:15PM.&nbsp\;<br />\n<br />\nThe prize drawing will be held at the Antique Table at 8:30 PM.<br />\n<br style="font-family: Roboto\, sans-serif\;" />\n<br style="font-family: Roboto\, sans-serif\;" />\n<font face="Roboto\, sans-serif">&nbsp\;</font>
LOCATION:Downtown Manchester-by-the-Sea and Antique Table Manchester-by-the-Sea\, MA
UID:e.2981.21471
SEQUENCE:3
DTSTAMP:20260425T022628Z
URL:https://business.capeannchamber.com/events/details/manchester-holiday-stroll-21471
END:VEVENT

END:VCALENDAR
