BEGIN:VCALENDAR
VERSION:2.0
PRODID:-//ChamberMaster//Event Calendar 2.0//EN
METHOD:PUBLISH
X-PUBLISHED-TTL:P3D
REFRESH-INTERVAL:P3D
CALSCALE:GREGORIAN
BEGIN:VEVENT
DTSTART:20250704T140000Z
DTEND:20250704T160000Z
X-MICROSOFT-CDO-ALLDAYEVENT:FALSE
SUMMARY:Manchester Fourth of July Parade
DESCRIPTION:Overview\n\nManchester's annual salute to America is a wonderful tradition\, complete with stirring music\, precision marching bands\, imaginative home made floats\, antique cars\, and just about everything else that represents the pride and patriotism we all share for our country. Simply stated\, Manchester's Fourth of July Celebration is small town America at its very best!
X-ALT-DESC;FMTTYPE=text/html:<h2 class="subhead1" style="box-sizing: border-box\; margin-top: 0.167em\; margin-bottom: 0px\; font-family: &quot\;Libre Baskerville&quot\;\; color: rgb(36\, 147\, 162)\; font-size: 1.6em\; background-color: rgb(245\, 250\, 255)\;">Overview</h2>\n\n<p style="box-sizing: border-box\; margin-top: 0px\; margin-bottom: 1.4em\; color: rgb(49\, 49\, 49)\; font-family: Poppins\; font-size: 16px\; background-color: rgb(245\, 250\, 255)\;">Manchester&rsquo\;s annual salute to America is a wonderful tradition\, complete with stirring music\, precision marching bands\, imaginative home made floats\, antique cars\, and just about everything else that represents the pride and patriotism we all share for our country. Simply stated\, Manchester&rsquo\;s Fourth of July Celebration is small town America at its very best!</p>\n
LOCATION:2025 Parade Details The parade will be held on Friday\, July 4\, 2025 at 10 AM\, rain or shine. The Manchester Police Department will close roads on a rolling basis so plan ahead. Temporary parking restrictions will apply along the parade route.
UID:e.2981.36816
SEQUENCE:3
DTSTAMP:20260425T212333Z
URL:https://business.capeannchamber.com/events/details/manchester-fourth-of-july-parade-36816
END:VEVENT

END:VCALENDAR
