BEGIN:VCALENDAR
VERSION:2.0
PRODID:-//ChamberMaster//Event Calendar 2.0//EN
METHOD:PUBLISH
X-PUBLISHED-TTL:P3D
REFRESH-INTERVAL:P3D
CALSCALE:GREGORIAN
BEGIN:VEVENT
DTSTART:20251007T160000Z
DTEND:20251007T220000Z
X-MICROSOFT-CDO-ALLDAYEVENT:FALSE
SUMMARY:Manchester-Essex Rotary Club Golf Tournament
DESCRIPTION:Join the Manchester-Essex Rotary at their 27th Annual Scholarship Fundraising Golf Tournament on Tuesday\, October 7 at 12 Noon at The Meadow at Peabody.\n\n\n\n$150 Entry Fee includes greens fee\, golf cart\, beverages\, prizes\, prime rib dinner. \n\n\n\n$100 Hole Sponsorships available for local businesses.\n\n\n\nRegister online at: https://manchester-essex-rotary-club.square.site/product/manchester-essex-rotary-club-golf-entry-fee/13?cs=true&cst=popular\n\nOr contact Chris Shea at 508-843-4979 or send email to cknsshea@aol.com
X-ALT-DESC;FMTTYPE=text/html:Join the Manchester-Essex Rotary at their 27th Annual Scholarship Fundraising Golf Tournament on Tuesday\, October 7 at 12 Noon at The Meadow at Peabody.<br />\n<br />\n$150 Entry Fee includes greens fee\, golf cart\, beverages\, prizes\, prime rib dinner.&nbsp\;<br />\n<br />\n$100 Hole Sponsorships available for local businesses.<br />\n<br />\nRegister online at:&nbsp\;<a href="https://manchester-essex-rotary-club.square.site/product/manchester-essex-rotary-club-golf-entry-fee/13?cs=true&amp\;cst=popular" target="_blank">https://manchester-essex-rotary-club.square.site/product/manchester-essex-rotary-club-golf-entry-fee/13?cs=true&amp\;cst=popular</a><br />\nOr contact Chris Shea at 508-843-4979 or send email to <a href="mailto:cknsshea@aol.com">cknsshea@aol.com</a>
LOCATION:The Meadow at Peabody 80 Granite St\, Peabody\, MA
UID:e.2981.43131
SEQUENCE:3
DTSTAMP:20260422T112604Z
URL:https://business.capeannchamber.com/events/details/manchester-essex-rotary-club-golf-tournament-43131
END:VEVENT

END:VCALENDAR
