BEGIN:VCALENDAR
VERSION:2.0
PRODID:-//ChamberMaster//Event Calendar 2.0//EN
METHOD:PUBLISH
X-PUBLISHED-TTL:P3D
REFRESH-INTERVAL:P3D
CALSCALE:GREGORIAN
BEGIN:VEVENT
DTSTART:20260330T213000Z
DTEND:20260330T223000Z
X-MICROSOFT-CDO-ALLDAYEVENT:FALSE
SUMMARY:Rockport Division Meeting
DESCRIPTION:Join us for our Quarter 1 Greater Cape Ann Chamber/Rockport Division Meeting\n\n\n\nThe principal objective of the Chamber's Division meetings is to foster communication and collaboration between the Town\, the Chamber and the business community to advance priorities\, so your attendance and participation are important.  *Please note that all are welcome\, you do not need to be a Chamber member to attend.  \n\n \n\nThese meetings are casual   please join for refreshments and learn about the Town's and Chamber's work\, and how you may become more involved in shaping the future of this amazing region.
X-ALT-DESC;FMTTYPE=text/html:<span style="font-size:16px\;">Join us for our Quarter 1 Greater Cape Ann Chamber/Rockport Division Meeting</span><br />\n<br />\n<em>The principal objective of the Chamber&rsquo\;s Division meetings is to foster communication and collaboration between the Town\, the Chamber and the business community to advance priorities\, so your attendance and participation are important.&nbsp\; *Please note that all are welcome\, you do not need to be a Chamber member to attend.</em> &nbsp\;<br />\n&nbsp\;<br />\nThese meetings are casual &ndash\; please join for refreshments and learn about the Town&rsquo\;s and Chamber&rsquo\;s work\, and how you may become more involved in shaping the future of this amazing region. &nbsp\;&nbsp\;<br />\n&nbsp\;
LOCATION:Rockport Police Department Community Room
UID:e.2981.46493
SEQUENCE:3
DTSTAMP:20260425T122806Z
URL:https://business.capeannchamber.com/events/details/manchester-division-meeting-46493
END:VEVENT

END:VCALENDAR
