BEGIN:VCALENDAR
VERSION:2.0
PRODID:-//ChamberMaster//Event Calendar 2.0//EN
METHOD:PUBLISH
X-PUBLISHED-TTL:P3D
REFRESH-INTERVAL:P3D
CALSCALE:GREGORIAN
BEGIN:VEVENT
DTSTART:20250802T140000Z
DTEND:20250802T200000Z
X-MICROSOFT-CDO-ALLDAYEVENT:FALSE
SUMMARY:Manchester by the Sea Museum & Seaside #1 Museum OPEN HOUSE
DESCRIPTION:Please join us for our annual OPEN HOUSE as part of Festival by the Sea with free tours of the Museum along with live music from the Woodland Spark Trio\, and a Fish Printing art activity.\n\n\n\n*Seaside No. 1 Museum\, located at 14 Church Street\, will also be open for guided tours from 10 AM to 4 PM.
X-ALT-DESC;FMTTYPE=text/html:Please join us for our annual OPEN HOUSE as part of Festival by the Sea with free tours of the Museum along with live music from the Woodland Spark Trio\, and a Fish Printing art activity.<br />\n<br />\n*Seaside No. 1 Museum\, located at 14 Church Street\, will also be open for guided tours from 10 AM to 4 PM.
LOCATION:
UID:e.2981.37457
SEQUENCE:3
DTSTAMP:20260425T000022Z
URL:https://business.capeannchamber.com/events/details/manchester-by-the-sea-museum-seaside-1-museum-open-house-37457
END:VEVENT

END:VCALENDAR
