BEGIN:VCALENDAR
VERSION:2.0
PRODID:-//ChamberMaster//Event Calendar 2.0//EN
METHOD:PUBLISH
X-PUBLISHED-TTL:P3D
REFRESH-INTERVAL:P3D
CALSCALE:GREGORIAN
BEGIN:VEVENT
DTSTART:20220111T183000Z
DTEND:20220111T193000Z
X-MICROSOFT-CDO-ALLDAYEVENT:FALSE
SUMMARY:Lung Cancer Screening Webinar
DESCRIPTION:Join this American Lung Cancer Screening Initiative webinar to learn about lung cancer risks\, if you or a loved one is eligible for screening and\, if so\, how to get screened. Let's save lives through early detection!
X-ALT-DESC;FMTTYPE=text/html:Join this <a href="https://register.gotowebinar.com/rt/6135549080988561164">American Lung Cancer Screening Initiative webinar</a> to learn about lung cancer risks\, if you or a loved one is eligible for screening and\, if so\, how to get screened. Let&#39\;s save lives through early detection!
LOCATION:Saving Lives Through Early Detection: Ling Cancer Screening Webinar
UID:e.2981.21735
SEQUENCE:3
DTSTAMP:20260424T100143Z
URL:https://business.capeannchamber.com/events/details/lung-cancer-screening-webinar-21735
END:VEVENT

END:VCALENDAR
