BEGIN:VCALENDAR
VERSION:2.0
PRODID:-//ChamberMaster//Event Calendar 2.0//EN
METHOD:PUBLISH
X-PUBLISHED-TTL:P3D
REFRESH-INTERVAL:P3D
CALSCALE:GREGORIAN
BEGIN:VEVENT
DTSTART:20251102T200000Z
DTEND:20251102T220000Z
X-MICROSOFT-CDO-ALLDAYEVENT:FALSE
SUMMARY:Lunar Phases & Yoga Nidra Meditation Circle
DESCRIPTION:Join Wyndee Egan each month for a transformative experience that blends lunar astrology with guided Yoga Nidra meditation.\n\n\n\nThis unique class offers a sacred space to reflect\, reset\, and realign with the rhythm of the moon and your own inner wisdom. Each session explores the current moon phase New Moon and Full Moon\, and how it influences our emotions\, intuition\, and personal growth. We'll discuss the astrological sign the moon is in\, how it interacts with your birth chart\, and how to work with this energy through intention-setting\, journaling\, and meditation.
X-ALT-DESC;FMTTYPE=text/html:<span style="color:rgb(47\, 51\, 52)\; font-family:tt norms pro\,-apple-system\,blinkmacsystemfont\,segoe ui\,helvetica neue\,arial\,sans-serif\,apple color emoji\,segoe ui emoji\,segoe ui symbol\; font-size:16px">Join Wyndee Egan each month for a transformative experience that blends lunar astrology with guided Yoga Nidra meditation.<br />\n<br />\nThis unique class offers a sacred space to reflect\, reset\, and realign with the rhythm of the moon and your own inner wisdom. Each session explores the current moon phase&mdash\;New Moon and Full Moon\,&mdash\;and how it influences our emotions\, intuition\, and personal growth. We&rsquo\;ll discuss the astrological sign the moon is in\, how it interacts with your birth chart\, and how to work with this energy through intention-setting\, journaling\, and meditation.</span>
LOCATION:Treetop Yoga 3A Pond Road Gloucester\, MA 01930
UID:e.2981.42987
SEQUENCE:3
DTSTAMP:20260422T061020Z
URL:https://business.capeannchamber.com/events/details/lunar-phases-yoga-nidra-meditation-circle-11-02-2025-42987
END:VEVENT

END:VCALENDAR
