BEGIN:VCALENDAR
VERSION:2.0
PRODID:-//ChamberMaster//Event Calendar 2.0//EN
METHOD:PUBLISH
X-PUBLISHED-TTL:P3D
REFRESH-INTERVAL:P3D
CALSCALE:GREGORIAN
BEGIN:VEVENT
DTSTART:20241216T000000Z
DTEND:20241216T023000Z
X-MICROSOFT-CDO-ALLDAYEVENT:FALSE
SUMMARY:Love For The Holidays with Darlene Love
DESCRIPTION:One of The Cabot's beloved holiday traditions returns\n\n\nSince the early sixties\, Darlene has appeared on numerous television programs and on Broadway\, running the gamut from her weekly appearances on Shindig to a recent guest spot on the PBS special entitled Women Who Rock. An autobiographical film is currently on the drawing board with a development deal from Oprah Winfrey based on the book My Name is Love\, written by Darlene.Her Billboard hits include: He's A Rebel\, The Boy I'm Gonna Marry\, Wait 'Til My Bobby Gets Home\, He's Sure the Boy I Love and the #1 holiday classic Christmas Baby Please Come Home\, a song that she performed annually with Paul Shaffer and the CBS Symphony Orchestra on The Late Show With David Letterman for some 29 years before David retired.\n\nTo continue this long standing tradition\, Darlene performs a number of special Christmas shows every year and continues to enchant her fans with Christmas spirit.
X-ALT-DESC;FMTTYPE=text/html:<p>One of The Cabot&#39\;s beloved holiday traditions returns</p>\n\n<div>\n<p>Since the early sixties\, Darlene has appeared on numerous television programs and on Broadway\, running the gamut from her weekly appearances on&nbsp\;<em>Shindig</em>&nbsp\;to a recent guest spot on the PBS special entitled&nbsp\;<em>Women Who Rock</em>. An autobiographical film is currently on the drawing board with a development deal from Oprah Winfrey based on the book&nbsp\;<em>My Name is Love</em>\, written by Darlene.Her Billboard hits include:&nbsp\;<em>He&rsquo\;s A Rebel\, The Boy I&rsquo\;m Gonna Marry\, Wait &lsquo\;Til My Bobby Gets Home\, He&rsquo\;s Sure the Boy I Love</em>&nbsp\;and the #1 holiday classic&nbsp\;<em>Christmas Baby Please Come Home</em>\, a song that she performed annually with Paul Shaffer and the CBS Symphony Orchestra on&nbsp\;<em>The Late Show With David Letterman</em>&nbsp\;for some 29 years before David retired.</p>\n\n<p>To continue this long standing tradition\, Darlene performs a number of special Christmas shows every year and continues to enchant her fans with Christmas spirit.</p>\n</div>\n
LOCATION:The Cabot 286 Cabot Street Beverly\, MA 01915
UID:e.2981.34230
SEQUENCE:3
DTSTAMP:20260424T123910Z
URL:https://business.capeannchamber.com/events/details/love-for-the-holidays-with-darlene-love-34230
END:VEVENT

END:VCALENDAR
