BEGIN:VCALENDAR
VERSION:2.0
PRODID:-//ChamberMaster//Event Calendar 2.0//EN
METHOD:PUBLISH
X-PUBLISHED-TTL:P3D
REFRESH-INTERVAL:P3D
CALSCALE:GREGORIAN
BEGIN:VEVENT
DTSTART:20260131T010000Z
DTEND:20260131T030000Z
X-MICROSOFT-CDO-ALLDAYEVENT:FALSE
SUMMARY:Lords of 52nd Street - Billy Joel's Original Band
DESCRIPTION:They are New York's favorite band\, they sold more than 150 million records\, they helped establish Billy Joel's formidable sound\, and they continue to perform their legendary hits still to this day.
X-ALT-DESC;FMTTYPE=text/html:They are New York&rsquo\;s favorite band\, they sold more than 150 million records\, they helped establish Billy Joel&rsquo\;s formidable sound\, and they continue to perform their legendary hits still to this day.
LOCATION:The Cabot 286 Cabot St Beverly\, MA 01915
UID:e.2981.45851
SEQUENCE:3
DTSTAMP:20260425T151727Z
URL:https://business.capeannchamber.com/events/details/lords-of-52nd-street-billy-joel-s-original-band-45851
END:VEVENT

END:VCALENDAR
