BEGIN:VCALENDAR
VERSION:2.0
PRODID:-//ChamberMaster//Event Calendar 2.0//EN
METHOD:PUBLISH
X-PUBLISHED-TTL:P3D
REFRESH-INTERVAL:P3D
CALSCALE:GREGORIAN
BEGIN:VEVENT
DTSTART:20241222T010000Z
DTEND:20241222T030000Z
X-MICROSOFT-CDO-ALLDAYEVENT:FALSE
SUMMARY:Livingston Taylor
DESCRIPTION:Enjoy the much anticipated return of folk's legendary Livingston Taylor\, performing such hits as "Carolina Day\," "Get out of Bed\," "I Will Be in Love with You" and "I'll Come Running." From upbeat storytelling to touching ballads inspired by a varied repertoire of folk\, pop\, gospel and jazz\, Taylor is known for his ability to take audiences on a musical journey.
X-ALT-DESC;FMTTYPE=text/html:<span style="font-size:14px"><span style="background-color:rgb(250\, 250\, 250)\; color:rgb(0\, 0\, 0)\; font-family:open sans\,helvetica neue\,helvetica\,arial\,sans-serif">Enjoy the much anticipated return of folk&#39\;s legendary Livingston Taylor\, performing such hits as &ldquo\;Carolina Day\,&rdquo\; &ldquo\;Get out of Bed\,&rdquo\; &ldquo\;I Will Be in Love with You&rdquo\; and &ldquo\;I&rsquo\;ll Come Running.&rdquo\; From upbeat storytelling to touching ballads inspired by a varied repertoire of&nbsp\;folk\, pop\, gospel and jazz\, Taylor is known for his ability to take audiences on a musical journey.</span></span>
LOCATION:37 Main St\, Rockport\, MA 01966
UID:e.2981.33170
SEQUENCE:3
DTSTAMP:20260424T152506Z
URL:https://business.capeannchamber.com/events/details/livingston-taylor-33170
END:VEVENT

END:VCALENDAR
