BEGIN:VCALENDAR
VERSION:2.0
PRODID:-//ChamberMaster//Event Calendar 2.0//EN
METHOD:PUBLISH
X-PUBLISHED-TTL:P3D
REFRESH-INTERVAL:P3D
CALSCALE:GREGORIAN
BEGIN:VEVENT
DTSTART:20260225T140000Z
DTEND:20260225T180000Z
X-MICROSOFT-CDO-ALLDAYEVENT:FALSE
SUMMARY:Living Well Together 2026: A Greater Cape Ann Community Wellness Fair
DESCRIPTION:If you're interested in being a vendor\, please contact Colleen at colleen@capeannchamber.com\n\n\n\nJoin the Greater Cape Ann Chamber's Health & Wellness Committee for Living Well Together: A Greater Cape Ann Community Wellness Fair.\n\n\n\nThis event will showcase the Cape Ann region's broad range of health and wellness services. From nutrition and massage to general health screenings and resources\, this event will provide something for people of all ages!  There will be raffle drawings for several great items!\n\n	Food & Nutrition\n	Movement\, Balance & Exercise\n	Hearing & Vision\n	Holistic & General Healthcare\n	Youth Development\, Lifelong Learning & Aging\n	Mental Health Wellness\n\n\n \n\nList of Current Vendors\n\nAbling Health Care Services\n\nAction\, Inc.\n\nAnnette Dion Spiritual Life Coaching\n\nBackyard Growers\n\nBeauport Hearing Care\n\nBeverly and Addison Gilbert Hospitals (Presenting Sponsor)\n\nCape Ann YMCA (Host Sponsor)\n\nCATA\n\nCity of Gloucester Health Department/Regional Youth Prevention Network\n\nDisability Resource Center (Silver Sponsor)\n\nEuropean Wax Center\n\nNational Alliance on Mental Health - Cape Ann\n\nNortheast Arc Early Intervention\n\nOpioid Abatement Collaborative\n\nRevive Wellness\n\nSeniorCare\n\nThe Open Door\n\nThrive Gloucester\n\n\n\nList of Raffle Items\n\nLands End canvas tote bag with Action Inc swag donated by Action Inc (value $125)\n\n3 Gallon GrowBag with 2 packets of seeds for spring planting and a copy of children's book How to Say Hello to a Worm donated by Backyard Growers\n\n$25 Market Basket Gift Card donated by Northeast Arc Early Intervention\n\n$25 Revive Wellness Gift Card donated by Revive Wellness\n\nGift Card and products valued at $50 donated by European Wax Center\n\nFree 20-minute reading ($60 value) from Annette Dion Spiritual Life Coaching
X-ALT-DESC;FMTTYPE=text/html:<em>If you&#39\;re interested in being a vendor\, please contact Colleen at colleen@capeannchamber.com</em><br />\n<br />\n<span style="color:#000000\;">Join the Greater Cape Ann Chamber&#39\;s Health &amp\; Wellness Committee for Living Well Together: A Greater Cape Ann Community Wellness Fair.<br />\n<br />\nThis event will showcase the Cape Ann region&#39\;s broad range of health and wellness services. From nutrition and massage to general health screenings and resources\, this event will provide something for people of all ages!&nbsp\; There will be raffle drawings for several great items!</span>\n<ul>\n	<li style="clear: both\;"><span style="color:#000000\;">Food &amp\; Nutrition</span></li>\n	<li style="clear: both\;"><span style="color:#000000\;">Movement\, Balance &amp\; Exercise</span></li>\n	<li style="clear: both\;"><span style="color:#000000\;">Hearing &amp\; Vision</span></li>\n	<li style="clear: both\;"><span style="color:#000000\;">Holistic &amp\; General Healthcare</span></li>\n	<li style="clear: both\;"><span style="color:#000000\;">Youth Development\, Lifelong Learning &amp\; Aging</span></li>\n	<li style="clear: both\;"><span style="color:#000000\;">Mental Health Wellness</span></li>\n</ul>\n\n<div style="clear: both\;">&nbsp\;</div>\n\n<div style="clear: both\;"><u><strong>List of Current Vendors</strong></u><br />\nAbling Health Care Services<br />\nAction\, Inc.<br />\nAnnette Dion Spiritual Life Coaching<br />\nBackyard Growers<br />\nBeauport Hearing Care<br />\n<span style="color:#0000FF\;">Beverly and Addison Gilbert Hospitals&nbsp\;(Presenting Sponsor)</span><br />\n<span style="color:#0000FF\;">Cape Ann YMCA</span> <span style="color:#0000FF\;">(Host Sponsor)</span><br />\nCATA<br />\nCity of Gloucester Health Department/Regional Youth Prevention Network<br />\n<span style="color:#0000FF\;">Disability Resource Center</span> <span style="color:#0000FF\;">(Silver Sponsor)</span><br />\nEuropean Wax Center<br />\nNational Alliance on Mental Health - Cape Ann<br />\nNortheast Arc Early Intervention<br />\nOpioid Abatement Collaborative<br />\nRevive Wellness<br />\nSeniorCare<br />\nThe Open Door<br />\nThrive Gloucester<br />\n<br />\n<u><strong>List of Raffle Items</strong></u><br />\nLands End canvas tote bag with Action Inc swag donated by Action Inc (value $125)<br />\n3 Gallon GrowBag with 2 packets of seeds for spring planting and a copy of children&#39\;s book <em>How to Say Hello&nbsp\;to a Worm</em> donated by Backyard Growers<br />\n$25 Market Basket Gift Card donated by Northeast Arc Early Intervention<br />\n$25 Revive Wellness Gift Card donated by Revive Wellness<br />\nGift Card and products valued at $50 donated by European Wax Center<br />\nFree 20-minute reading ($60 value) from&nbsp\;Annette Dion Spiritual Life Coaching</div>\n
LOCATION:Glen T. MacLeod Cape Ann YMCA 7 Gloucester Crossing Road Gloucester\, MA 01930
UID:e.2981.45907
SEQUENCE:3
DTSTAMP:20260422T035520Z
URL:https://business.capeannchamber.com/events/details/living-well-together-a-greater-cape-ann-community-wellness-fair-45907
END:VEVENT

END:VCALENDAR
