BEGIN:VCALENDAR
VERSION:2.0
PRODID:-//ChamberMaster//Event Calendar 2.0//EN
METHOD:PUBLISH
X-PUBLISHED-TTL:P3D
REFRESH-INTERVAL:P3D
CALSCALE:GREGORIAN
BEGIN:VEVENT
DTSTART:20250626T230000Z
DTEND:20250627T013000Z
X-MICROSOFT-CDO-ALLDAYEVENT:FALSE
SUMMARY:Live Comedy at Ipswich Ale
DESCRIPTION:Get ready to laugh out loud!\n\nJoin us for an evening of live comedy at Ipswich Brewing. This is the perfect night out with friends or a unique date night experience. Enjoy a great lineup of comedians: Krista Patronick\, Jack Lombardo\, Lisa Lang\, Ajay G\, and Mark Gallagher. Hosted by Maxwell Shultz of Malice Comedy. \n\n \n\n \n\nDoors at 7:00 PM | Show at 7:30 PM | 21 (+) Ages Show\n\nTickets are $15 and available on Eventbrite: https://www.eventbrite.com/e/live-comedy-at-ipswich-brewing-tickets-1363774268549\n\n \n\nArrive early\, enjoy dinner or drinks before the show\, and prepare for a night of non-stop laughter. Don't miss out on this hilarious night out!
X-ALT-DESC;FMTTYPE=text/html:<p><strong><span style="font-size:20px">Get ready to laugh out loud!</span></strong></p>\n\n<p><span style="font-size:20px">Join us for an evening of </span><strong><span style="font-size:20px">live comedy</span></strong><span style="font-size:20px"> at Ipswich Brewing. This is the perfect night out with friends or a unique date night experience. Enjoy a great lineup of comedians: Krista Patronick\, Jack Lombardo\, Lisa Lang\, Ajay G\, and Mark Gallagher. Hosted by Maxwell Shultz of Malice Comedy. </span></p>\n\n<p>&nbsp\;</p>\n\n<p>&nbsp\;</p>\n\n<p><span style="font-size:20px">Doors at 7:00 PM | Show at 7:30 PM |&nbsp\;</span><span style="font-size:20px">21 (+) Ages Show<br />\nTickets are $15 and available on Eventbrite:&nbsp\;</span>https://www.eventbrite.com/e/live-comedy-at-ipswich-brewing-tickets-1363774268549</p>\n\n<p>&nbsp\;</p>\n\n<p><span style="font-size:20px">Arrive early\, enjoy dinner or drinks before the show\, and prepare for a night of non-stop laughter. Don&#39\;t miss out on this hilarious night out!</span></p>\n
LOCATION:2 Soffron Lane\, Ipswich\, MA
UID:e.2981.37301
SEQUENCE:3
DTSTAMP:20260424T211118Z
URL:https://business.capeannchamber.com/events/details/live-comedy-at-ipswich-ale-37301
END:VEVENT

END:VCALENDAR
