BEGIN:VCALENDAR
VERSION:2.0
PRODID:-//ChamberMaster//Event Calendar 2.0//EN
METHOD:PUBLISH
X-PUBLISHED-TTL:P3D
REFRESH-INTERVAL:P3D
CALSCALE:GREGORIAN
BEGIN:VEVENT
DTSTART:20241222T003000Z
DTEND:20241222T043000Z
X-MICROSOFT-CDO-ALLDAYEVENT:FALSE
SUMMARY:Little Lies
DESCRIPTION:12/21/24\n\nReserved Rail Stools $30\n\nStanding $15\n\n7:30pm doors / 8:00pm show\n\n21+\, Positive I.D. Required $15-30\n\n\n\nLittle Lies is an 8-piece tribute from Boston performing an authentic playlist of your favorite Fleetwood Mac hits. Join us for a night of romance\, drama\, and\, of course\, Rumours!\n\nFeaturing two female and two male vocalists\, along with an ensemble of professional musicians dedicated to capturing the magic of one of the world's most successful bands.
X-ALT-DESC;FMTTYPE=text/html:<span style="color:rgb(64\, 64\, 65)\; font-family:open sans\,sans-serif\; font-size:14px">12/21/24</span><br />\n<strong><span style="font-size:14pt">Reserved Rail Stools $30</span></strong><br />\n<strong><span style="font-size:14pt">Standing $15</span></strong><br />\n<span style="color:rgb(64\, 64\, 65)\; font-family:open sans\,sans-serif\; font-size:14px">7:30pm doors / 8:00pm show</span><br />\n<span style="color:rgb(64\, 64\, 65)\; font-family:open sans\,sans-serif\; font-size:14px">21+\, Positive I.D. Required $15-30</span><br />\n<br />\n<span style="color:rgb(64\, 64\, 65)\; font-family:open sans\,sans-serif\; font-size:14px">Little Lies is an 8-piece tribute from Boston performing an authentic playlist of your favorite Fleetwood Mac hits. Join us for a night of romance\, drama\, and\, of course\, Rumours!</span><br />\n<span style="color:rgb(64\, 64\, 65)\; font-family:open sans\,sans-serif\; font-size:14px">Featuring two female and two male vocalists\, along with an ensemble of professional musicians dedicated to capturing the magic of one of the world&rsquo\;s most successful bands.&nbsp\;</span>
LOCATION:The Cut 177 Main Street Gloucester\, MA 01930
UID:e.2981.34105
SEQUENCE:3
DTSTAMP:20260424T153251Z
URL:https://business.capeannchamber.com/events/details/little-lies-34105
END:VEVENT

END:VCALENDAR
