BEGIN:VCALENDAR
VERSION:2.0
PRODID:-//ChamberMaster//Event Calendar 2.0//EN
METHOD:PUBLISH
X-PUBLISHED-TTL:P3D
REFRESH-INTERVAL:P3D
CALSCALE:GREGORIAN
BEGIN:VEVENT
DTSTART:20250720T200000Z
DTEND:20250720T220000Z
X-MICROSOFT-CDO-ALLDAYEVENT:FALSE
SUMMARY:Learn To Read Runes Course
DESCRIPTION:Sunday July 20th 4pm\n\nEmbark on a fascinating journey of ancient wisdom with our 'Learning To Read Runes Course.' Dive into the rich tapestry of ancient knowledge as you unlock the secrets of divination and gain profound spiritual insights. This comprehensive course is designed to equip you with the skills and techniques needed to decipher the mystical language of runes with precision and depth. Delve into the mystical realm of divination and uncover hidden truths that have been revered for centuries. Enrich your spiritual practice and expand your horizons with our expertly crafted course on rune reading.\n\nYou will receive a brand new set of runes carved from real stones. You will pick them as a group by feeling the energy to find your perfect set.
X-ALT-DESC;FMTTYPE=text/html:<p><u><em><strong>Sunday July 20th 4pm</strong></em></u></p>\n\n<p>Embark on a fascinating journey of ancient wisdom with our &#39\;Learning To Read Runes Course.&#39\; Dive into the rich tapestry of ancient knowledge as you unlock the secrets of divination and gain profound spiritual insights. This comprehensive course is designed to equip you with the skills and techniques needed to decipher the mystical language of runes with precision and depth. Delve into the mystical realm of divination and uncover hidden truths that have been revered for centuries. Enrich your spiritual practice and expand your horizons with our expertly crafted course on rune reading.</p>\n\n<p>You will receive a brand new set of runes carved from real stones. You will pick them as a group by feeling the energy to find your perfect set.</p>\n
LOCATION:Apothecary Suil Crow 9 Whistlestop Mall Rockport MA 01966
UID:e.2981.36606
SEQUENCE:3
DTSTAMP:20260424T222816Z
URL:https://business.capeannchamber.com/events/details/learn-to-read-runes-course-36606
END:VEVENT

END:VCALENDAR
