BEGIN:VCALENDAR
VERSION:2.0
PRODID:-//ChamberMaster//Event Calendar 2.0//EN
METHOD:PUBLISH
X-PUBLISHED-TTL:P3D
REFRESH-INTERVAL:P3D
CALSCALE:GREGORIAN
BEGIN:VEVENT
DTSTART:20250427T150000Z
DTEND:20250427T190000Z
X-MICROSOFT-CDO-ALLDAYEVENT:FALSE
SUMMARY:Laurie Berkner (TWO SHOWS)
DESCRIPTION:Two Shows: 11AM & 3PM\n\n \nGive your child an unforgettable experience that will inspire a lifelong love of music and create lasting memories with the whole F-A-M-I-L-Y!\n\n\nLaurie Berkner has been a professional musician since 1992\, but her success as a children's recording artist was a surprise to her. "It was so unexpected\," says Laurie. "I'd been performing in rock bands and struggling to write original music. Writing music for kids has not been a struggle at all. The more I started working on material for children\, the more I realized that it opened up creativity in me that I never knew I had."\n\nThese days critics widely acknowledge Laurie's major contribution toward launching what is now dubbed the progressive "kindie rock" movement   i.e. less saccharine\, more rocking music that is not dumbed down for children. But it wasn't simply an enormous amount of talent that helped create an entire genre and skyrocketed Laurie to her current position as "the queen of kids' music" (People magazine).\n\nIt was an ability to gain parents' enthusiasm for the songs as well. According to Laurie\, "When I'm writing a song\, I'm thinking about whether the kids will like it and whether I'm going to connect to them through it. I'm also thinking about whether I want to sing it over and over again\, so I guess that's the part that connects with adults. 'Old MacDonald Had a Farm' is a great song for kids\, but I couldn't sing it 100 times!"
X-ALT-DESC;FMTTYPE=text/html:<strong>Two Shows: 11AM &amp\; 3PM</strong><br />\n&nbsp\;\n<p>Give your child an unforgettable experience that will inspire a lifelong love of music and create lasting memories with the whole F-A-M-I-L-Y!</p>\n\n<div>\n<p>Laurie Berkner has been a professional musician since 1992\, but her success as a children&rsquo\;s recording artist was a surprise to her. &ldquo\;It was so unexpected\,&rdquo\; says Laurie. &ldquo\;I&rsquo\;d been performing in rock bands and struggling to write original music. Writing music for kids has not been a struggle at all. The more I started working on material for children\, the more I realized that it opened up creativity in me that I never knew I had.&rdquo\;</p>\n\n<p>These days critics widely acknowledge Laurie&rsquo\;s major contribution toward launching what is now dubbed the progressive &ldquo\;kindie rock&rdquo\; movement &ndash\; i.e. less saccharine\, more rocking music that is not dumbed down for children. But it wasn&rsquo\;t simply an enormous amount of talent that helped create an entire genre and skyrocketed Laurie to her current position as &ldquo\;the queen of kids&rsquo\; music&rdquo\; (People magazine).</p>\n\n<p>It was an ability to gain parents&rsquo\; enthusiasm for the songs as well. According to Laurie\, &ldquo\;When I&rsquo\;m writing a song\, I&rsquo\;m thinking about whether the kids will like it and whether I&rsquo\;m going to connect to them through it. I&rsquo\;m also thinking about whether I want to sing it over and over again\, so I guess that&rsquo\;s the part that connects with adults. &lsquo\;Old MacDonald Had a Farm&rsquo\; is a great song for kids\, but I couldn&rsquo\;t sing it 100 times!&rdquo\;</p>\n</div>\n
LOCATION:The Cabot 286 Cabot St Beverly\, MA 01915
UID:e.2981.35168
SEQUENCE:3
DTSTAMP:20260424T140348Z
URL:https://business.capeannchamber.com/events/details/laurie-berkner-two-shows-35168
END:VEVENT

END:VCALENDAR
