BEGIN:VCALENDAR
VERSION:2.0
PRODID:-//ChamberMaster//Event Calendar 2.0//EN
METHOD:PUBLISH
X-PUBLISHED-TTL:P3D
REFRESH-INTERVAL:P3D
CALSCALE:GREGORIAN
BEGIN:VEVENT
DTSTART:20251010T220000Z
DTEND:20251010T230000Z
X-MICROSOFT-CDO-ALLDAYEVENT:FALSE
SUMMARY:Ladies Craft Night: Pumpkin Painting (Decoupage)
DESCRIPTION:Get festive this fall with a cozy\, creative night of crafting! We'll provide everything you need to design your own decoupage pumpkin   no experience necessary. $35 per person\, includes:\n\nCraft pumpkin\n\nAssorted decorative paper\n\nGlue & applicators\n\nStem Paint\n\nGuided Craft\n\n10 seats maximum\n\nJoin us for some holiday fun :)
X-ALT-DESC;FMTTYPE=text/html:<p><span style="color:rgba(0\,0\,0\,var(--O42jJQ\,1))">Get festive this fall with a </span><strong>cozy\, creative night of crafting!&nbsp\;</strong><span style="color:rgba(0\,0\,0\,var(--O42jJQ\,1))">We&rsquo\;ll provide everything you need to design your own decoupage pumpkin &mdash\;</span><strong> no experience necessary.&nbsp\;</strong><em>$35 per person\, includes:</em></p>\n\n<p><strong>Craft pumpkin</strong><br />\n<strong>Assorted decorative paper</strong><br />\n<strong>Glue &amp\; applicators</strong><br />\n<strong>Stem Paint</strong><br />\n<strong>Guided Craft</strong></p>\n\n<p>10 seats maximum<br />\nJoin us for some holiday fun :)</p>\n
LOCATION:Revive Wellness 232 Main St Gloucester 01930
UID:e.2981.44879
SEQUENCE:3
DTSTAMP:20260422T091657Z
URL:https://business.capeannchamber.com/events/details/ladies-craft-night-pumpkin-painting-decoupage-44879
END:VEVENT

END:VCALENDAR
