BEGIN:VCALENDAR
VERSION:2.0
PRODID:-//ChamberMaster//Event Calendar 2.0//EN
METHOD:PUBLISH
X-PUBLISHED-TTL:P3D
REFRESH-INTERVAL:P3D
CALSCALE:GREGORIAN
BEGIN:VEVENT
DTSTART:20260218T230000Z
DTEND:20260219T010000Z
X-MICROSOFT-CDO-ALLDAYEVENT:FALSE
SUMMARY:KPop Huntrix Concert Experience and Meet & Greet
DESCRIPTION:Join us for a one-of-a-kind KPop Demon Hunters-themed musical experience. Feel the energy\, style\, and spirit of beloved KPop hits as the Ever After Storybook Entertainment Huntrix characters take the stage for a high-energy\, sing-along\, dance-filled concert. Following the performance\, fans will have the opportunity to meet and greet their favorite "popstars" and pose for photos together.\n\n\n\nThis event is perfect for fans of all ages. Come dressed in your best Demon Hunter-inspired outfits to add to the fun!\n\n\n\nDo not miss your chance to experience KPop vibes up close. Bring your friends and family and come sing and dance your heart out together. Show us how it's done\, done\, done!\n\n\n\nMember savings apply.
X-ALT-DESC;FMTTYPE=text/html:<span style="color:rgb(0\, 0\, 0)\; font-family:open sans\,sans-serif">Join us for a one-of-a-kind KPop Demon Hunters-themed musical experience. Feel the energy\, style\, and spirit of beloved KPop hits as the Ever After Storybook Entertainment Huntrix characters take the stage for a high-energy\, sing-along\, dance-filled concert. Following the performance\, fans will have the opportunity to meet and greet their favorite &ldquo\;popstars&rdquo\; and pose for photos together.<br />\n<br />\nThis event is perfect for fans of all ages. Come dressed in your best Demon Hunter-inspired outfits to add to the fun!<br />\n<br />\nDo not miss your chance to experience KPop vibes up close. Bring your friends and family and come sing and dance your heart out together. Show us how it&rsquo\;s done\, done\, done!<br />\n<br />\nMember savings apply.</span>
LOCATION:Hammond Castle Museum 80 Hesperus Avenue Gloucester\, MA 01930
UID:e.2981.46140
SEQUENCE:3
DTSTAMP:20260425T135206Z
URL:https://business.capeannchamber.com/events/details/kpop-huntrix-concert-experience-and-meet-greet-46140
END:VEVENT

END:VCALENDAR
