BEGIN:VCALENDAR
VERSION:2.0
PRODID:-//ChamberMaster//Event Calendar 2.0//EN
METHOD:PUBLISH
X-PUBLISHED-TTL:P3D
REFRESH-INTERVAL:P3D
CALSCALE:GREGORIAN
BEGIN:VEVENT
DTSTART:20211105T230000Z
DTEND:20211106T010000Z
X-MICROSOFT-CDO-ALLDAYEVENT:FALSE
SUMMARY:Knights\, Maidens & Moor: Broadway at the Castle
DESCRIPTION:Join us as Hello Friends Productions brings Knights\, Maidens and Moor to our Great Hall with a cabaret of Broadway songs all relating to life in a castle or to the many famous guests Hammond entertained.   With two Masters of Ceremony for the evening\, we'll have humming along to classics like Gershwin\, Disney and more. The cast includes: Tom Edmonds\, April Baldwin Foley\, Andrew Hankinson\, Rebecca Kenneally\, Bobby Kerrigan\, Kelly Murphy\, Sean Murphy\, Thomas Smoker and Crystal Van Artsdalen. Accompanying the cast on the Hammond's original\, 1920s Chickering piano is Chris Lawnsby.  Shows being at 7pm on Friday and Saturday night and at 6pm on Sunday night.  Parking is always free.
X-ALT-DESC;FMTTYPE=text/html:<p><span style="font-size:12px"><span style="font-family:verdana">Join us as&nbsp\;<em>Hello Friends Productions</em>&nbsp\;brings&nbsp\;Knights\, Maidens and Moor&nbsp\;to our Great Hall with a cabaret of Broadway songs all relating to life in a castle or to the many famous guests Hammond entertained.&nbsp\; &nbsp\;With two Masters of Ceremony for the evening\, we&rsquo\;ll have humming along to classics like Gershwin\, Disney and more. The cast includes: Tom Edmonds\,&nbsp\;April Baldwin Foley\, Andrew Hankinson\,&nbsp\;Rebecca Kenneally\, Bobby&nbsp\;Kerrigan\, Kelly Murphy\, Sean Murphy\,&nbsp\;Thomas Smoker and&nbsp\;Crystal Van Artsdalen. Accompanying the cast on the Hammond&#39\;s original\, 1920s Chickering piano is&nbsp\;Chris Lawnsby.&nbsp\; Shows being at 7pm on Friday and Saturday night and at 6pm on Sunday night.&nbsp\; Parking is always free.&nbsp\;</span></span></p>\n\n<p style="text-align:center">&nbsp\;</p>\n
LOCATION:Hammond Castle Museum 80 Hesperus Avenue\, Gloucester\, MA 01930
UID:e.2981.21386
SEQUENCE:3
DTSTAMP:20260424T123908Z
URL:https://business.capeannchamber.com/events/details/knights-maidens-moor-broadway-at-the-castle-21386
END:VEVENT

END:VCALENDAR
