BEGIN:VCALENDAR
VERSION:2.0
PRODID:-//ChamberMaster//Event Calendar 2.0//EN
METHOD:PUBLISH
X-PUBLISHED-TTL:P3D
REFRESH-INTERVAL:P3D
CALSCALE:GREGORIAN
BEGIN:VEVENT
DTSTART:20250208T160000Z
DTEND:20250208T180000Z
X-MICROSOFT-CDO-ALLDAYEVENT:FALSE
SUMMARY:Kiyoshi Hayashi
DESCRIPTION:Kiyoshi Hayashi is a professional violinist\, health and career coach\, speaker\, and entrepreneur based in Boston\, MA. He is the founder and Managing Director of Rasa String Quartet\, is a Co-Artistic Director of Palaver Strings and is the Career Advising Manager at the New England Conservatory of Music.
X-ALT-DESC;FMTTYPE=text/html:<span style="background-color:rgb(250\, 250\, 250)\; color:rgb(0\, 0\, 0)\; font-family:open sans\,helvetica neue\,helvetica\,arial\,sans-serif\; font-size:18px">Kiyoshi Hayashi is a professional violinist\, health and career coach\, speaker\, and entrepreneur based in Boston\, MA. He is the founder and Managing Director of Rasa String Quartet\, is a Co-Artistic Director of Palaver Strings and is the Career Advising Manager at the New England Conservatory of Music.</span>
LOCATION:37 Main St\, Rockport\, MA 01966
UID:e.2981.34260
SEQUENCE:3
DTSTAMP:20260421T082042Z
URL:https://business.capeannchamber.com/events/details/kiyoshi-hayashi-34260
END:VEVENT

END:VCALENDAR
