BEGIN:VCALENDAR
VERSION:2.0
PRODID:-//ChamberMaster//Event Calendar 2.0//EN
METHOD:PUBLISH
X-PUBLISHED-TTL:P3D
REFRESH-INTERVAL:P3D
CALSCALE:GREGORIAN
BEGIN:VEVENT
DTSTART:20250412T143000Z
DTEND:20250412T160000Z
X-MICROSOFT-CDO-ALLDAYEVENT:FALSE
SUMMARY:Kids at The Cabot: Debbie and Friends
DESCRIPTION:From the moment the Debbie and Friends band launches into their first song\, "I'm Glad You're Here\," the children in the crowd understand their role: to participate\, sing\, dance\, jump and interact with the Debbie and Friends band. As the lyrics suggest\, "you're part of the show." From that high-energy opener to the ecstatic ending\, the pacing of a Debbie and Friends show perfectly aligns with the attention spans of their young audience. They'll rock out and get the kids dancing in a theatre-sized conga line\, and then they'll bring them down gently to relax and engage in more attentive ways. Drawing heavily from fairytales that kids will already be familiar with\, Debbie and Friends presents enough lyrical updates to keep these stories fresh\, and to keep everybody tuned in and laughing\, including the parents! Debbie and Friends has been honored with 25 national awards including the 2011 Grammy Award for their part on the Best Children's Album that year with their anti-bullying song\, "Walk Away." \n\nPerfect for families with kids ages 2-8.
X-ALT-DESC;FMTTYPE=text/html:<p>From the moment the Debbie and Friends band launches into their first song\, &ldquo\;I&rsquo\;m Glad You&rsquo\;re Here\,&rdquo\; the children in the crowd understand their role: to participate\, sing\, dance\, jump and interact with the Debbie and Friends band. As the lyrics suggest\, &ldquo\;you&rsquo\;re part of the show.&rdquo\; From that high-energy opener to the ecstatic ending\, the pacing of a Debbie and Friends show perfectly aligns with the attention spans of their young audience. They&rsquo\;ll rock out and get the kids dancing in a theatre-sized conga line\, and then they&rsquo\;ll bring them down gently to relax and engage in more attentive ways. Drawing heavily from fairytales that kids will already be familiar with\, Debbie and Friends presents enough lyrical updates to keep these stories fresh\, and to keep everybody tuned in and laughing\, including the parents! Debbie and Friends has been honored with 25 national awards including the 2011 Grammy Award for their part on the Best Children&rsquo\;s Album that year with their anti-bullying song\, &ldquo\;Walk Away.&rdquo\;&nbsp\;</p>\n\n<p>Perfect for families with kids ages 2-8.</p>\n
LOCATION:The Cabot 286 Cabot St Beverly\, MA 01915
UID:e.2981.35160
SEQUENCE:3
DTSTAMP:20260424T140550Z
URL:https://business.capeannchamber.com/events/details/kids-at-the-cabot-debbie-and-friends-35160
END:VEVENT

END:VCALENDAR
