BEGIN:VCALENDAR
VERSION:2.0
PRODID:-//ChamberMaster//Event Calendar 2.0//EN
METHOD:PUBLISH
X-PUBLISHED-TTL:P3D
REFRESH-INTERVAL:P3D
CALSCALE:GREGORIAN
BEGIN:VEVENT
DTSTART:20221203T160000Z
DTEND:20221203T180000Z
X-MICROSOFT-CDO-ALLDAYEVENT:FALSE
SUMMARY:Kid's Games & Crafts - Rockport Baptist Church
DESCRIPTION:Kids' Games & Crafts
X-ALT-DESC;FMTTYPE=text/html:Kids&#39\; Games &amp\; Crafts
LOCATION:Baptist Church 4 High Street Rockport\, MA
UID:e.2981.23289
SEQUENCE:3
DTSTAMP:20260424T092130Z
URL:https://business.capeannchamber.com/events/details/kid-s-games-crafts-rockport-baptist-church-23289
END:VEVENT

END:VCALENDAR
