BEGIN:VCALENDAR
VERSION:2.0
PRODID:-//ChamberMaster//Event Calendar 2.0//EN
METHOD:PUBLISH
X-PUBLISHED-TTL:P3D
REFRESH-INTERVAL:P3D
CALSCALE:GREGORIAN
BEGIN:VEVENT
DTSTART:20140817T000000Z
DTEND:20140817T000000Z
X-MICROSOFT-CDO-ALLDAYEVENT:FALSE
SUMMARY:Kenny Barron Trio
DESCRIPTION:One of the most sought-after pianists of the post-bop era\, Kenny Barron has played on literally hundreds of jazz recordings\, many being some of the genre's most iconic and beloved. His unmatched ability to mesmerize audiences with his elegant playing\, sensitive melodies and infectious rhythms is what inspired The Los Angeles Times to name him "one of the top jazz pianists in the world.''  Tickets: $68/$58/$49
X-ALT-DESC;FMTTYPE=text/html:One of the most sought-after pianists of the post-bop era\, Kenny Barron has played on literally hundreds of jazz recordings\, many being some of the genre's most iconic and beloved. His unmatched ability to mesmerize audiences with his elegant playing\, sensitive melodies and infectious rhythms is what inspired The Los Angeles Times to name him "one of the top jazz pianists in the world.''  Tickets: $68/$58/$49
LOCATION:Shalin Liu Performance Center\, Rockport\, Ma 01966
UID:e.2981.1260
SEQUENCE:3
DTSTAMP:20260419T135412Z
URL:https://business.capeannchamber.com/events/details/kenny-barron-trio-08-16-2014-1260
END:VEVENT

END:VCALENDAR
