BEGIN:VCALENDAR
VERSION:2.0
PRODID:-//ChamberMaster//Event Calendar 2.0//EN
METHOD:PUBLISH
X-PUBLISHED-TTL:P3D
REFRESH-INTERVAL:P3D
CALSCALE:GREGORIAN
BEGIN:VEVENT
DTSTART:20140222T010000Z
DTEND:20140222T010000Z
X-MICROSOFT-CDO-ALLDAYEVENT:FALSE
SUMMARY:Keiko Matsui
DESCRIPTION:Beloved throughout the world as a genre-hopping new age pianist and composer\, Keiko Matsui fuses contemporary jazz with world music rhythms and classical elements. Keiko's 2013 release Soul Quest marks the 25thanniversary of her American recording debut and features saxophone great Kirk Whalum\, guitarist Chuck Loeb (Fourplay) and superstar bassist Marcus Miller (Miles Davis)\, among others. \nA dedicated human rights activist\, Keiko has lent her talent and popularity towards causes as diverse as breast cancer research\, earthquake relief\, hunger relief and peace activism. This past April she performed along with Herbie Hancock\, Hugh Masekela and others for International Jazz Day—an event event held in Istanbul in honor of world peace.  Keiko states\, ''I always want to dedicate my music to world peace and to use my music to give back to the planet.''  Her PBS special Keiko Matsui: Light Above the Trees garnered her two National Smooth Jazz Awards for ''Best Long-Form Video Achievement'' and ''Best Female Artist.'' Routinely topping the Contemporary Jazz Billboard Charts (she was the first Japanese artist to achieve this honor)\, Keiko is the rare crossover artist to enjoy both mainstream appeal and critical acclaim.   \n''…creating music that celebrates and elevates the human spirit''\nJazz Monthly\n\nTickets: $58\, $48\, $39
X-ALT-DESC;FMTTYPE=text/html:Beloved throughout the world as a genre-hopping new age pianist and composer\, Keiko Matsui fuses contemporary jazz with world music rhythms and classical elements. Keiko's 2013 release Soul Quest marks the 25thanniversary of her American recording debut and features saxophone great Kirk Whalum\, guitarist Chuck Loeb (Fourplay) and superstar bassist Marcus Miller (Miles Davis)\, among others. \nA dedicated human rights activist\, Keiko has lent her talent and popularity towards causes as diverse as breast cancer research\, earthquake relief\, hunger relief and peace activism. This past April she performed along with Herbie Hancock\, Hugh Masekela and others for International Jazz Day—an event event held in Istanbul in honor of world peace.  Keiko states\, ''I always want to dedicate my music to world peace and to use my music to give back to the planet.''  Her PBS special Keiko Matsui: Light Above the Trees garnered her two National Smooth Jazz Awards for ''Best Long-Form Video Achievement'' and ''Best Female Artist.'' Routinely topping the Contemporary Jazz Billboard Charts (she was the first Japanese artist to achieve this honor)\, Keiko is the rare crossover artist to enjoy both mainstream appeal and critical acclaim.   \n''…creating music that celebrates and elevates the human spirit''\nJazz Monthly\n\nTickets: $58\, $48\, $39\n
LOCATION:37 Main Street\, Rockport\, Ma 01966 Shalin Liu Performance Center 37 Main Street Rockport\, MA 01966 DIRECTIONS Travelling by Car Rockport is 45 miles from downtown Boston. Drive north on Route 128 (through two rotaries) to the traffic light in Gloucester. At the traffic light\, turn left onto Route 127. Drive 4 miles to Rockport. Continue through “Five Corners” onto Route 127A (Broadway) toward the harbor. It’s a slight vere to the right. At the stop sign at Mt. Pleasant Street (lighthouse in median)\, turn left and then bear left onto Main Street. The Shalin Liu Performance Center is on the right at 37 Main Street. Travelling by Train Rockport is accessible by commuter rail from Boston and other Northshore towns. The commuter rail originates from North Station on the Green line in Boston. The train station is ½ mile walk to the concert hall.
UID:e.2981.1124
SEQUENCE:3
DTSTAMP:20260420T003850Z
URL:https://business.capeannchamber.com/events/details/keiko-matsui-02-21-2014-1124
END:VEVENT

END:VCALENDAR
