BEGIN:VCALENDAR
VERSION:2.0
PRODID:-//ChamberMaster//Event Calendar 2.0//EN
METHOD:PUBLISH
X-PUBLISHED-TTL:P3D
REFRESH-INTERVAL:P3D
CALSCALE:GREGORIAN
BEGIN:VEVENT
DTSTART:20140718T000000Z
DTEND:20140718T000000Z
X-MICROSOFT-CDO-ALLDAYEVENT:FALSE
SUMMARY:Kathy Mattea
DESCRIPTION:A hit-making country music star throughout the 90's and winner of multiple CMA\, ACM and Grammy Awards\, Kathy Mattea is beloved for classics like ''Eighteen Wheels and a Dozen Roses'' and ''Love at the Five and Dime.''  tickets: $61/$51/$41
X-ALT-DESC;FMTTYPE=text/html:A hit-making country music star throughout the 90's and winner of multiple CMA\, ACM and Grammy Awards\, Kathy Mattea is beloved for classics like ''Eighteen Wheels and a Dozen Roses'' and ''Love at the Five and Dime.''  tickets: $61/$51/$41
LOCATION:Shalin Liu Performance Center\, Rockport\, Ma 01966
UID:e.2981.1232
SEQUENCE:3
DTSTAMP:20260419T154605Z
URL:https://business.capeannchamber.com/events/details/kathy-mattea-07-17-2014-1232
END:VEVENT

END:VCALENDAR
