BEGIN:VCALENDAR
VERSION:2.0
PRODID:-//ChamberMaster//Event Calendar 2.0//EN
METHOD:PUBLISH
X-PUBLISHED-TTL:P3D
REFRESH-INTERVAL:P3D
CALSCALE:GREGORIAN
BEGIN:VEVENT
DTSTART:20250910T223000Z
DTEND:20250911T003000Z
X-MICROSOFT-CDO-ALLDAYEVENT:FALSE
SUMMARY:Karen Blackwood - Oil Painting Painting the Essence of the Sea
DESCRIPTION:Karen Blackwood   Oil Painting\n\nPainting the Essence of the Sea\n\nWhen approaching a painting of the sea many artists find the idea of painting moving water and crashing waves a challenge. But if you can paint an apple\, figure or a landscape you can paint the sea. I find it's the same principle\, if I look for the light\, form and value and slow down my process I can actually capture it's speed and energy. For me painting the sea has taught me that less is more.\n\nUsing the armature of the rectangle\, a limited palette and limiting my values I'll demo my block in of moving water striving to maintain the scenes essence thru completion of the seascape. My goal is always to capture a feeling more than every ripple or droplet hoping to share the essence of the sea.\n\n\n\nRegister HERE
X-ALT-DESC;FMTTYPE=text/html:<h1><strong>Karen Blackwood &ndash\; Oil Painting<br />\n<em>Painting the Essence of the Sea</em></strong></h1>\n\n<p style="white-space-collapse: preserve\; overflow-wrap: break-word\; color: rgb(0\, 0\, 0)\; font-family: europa\; font-size: 15px\; letter-spacing: 0.45px\;"><span style="font-family:arial\;"><span style="font-size:14px\;">When approaching a painting of the sea many artists find the idea of painting moving water and crashing waves a challenge. But if you can paint an apple\, figure or a landscape you can paint the sea. I find it&rsquo\;s the same principle\, if I look for the light\, form and value and slow down my process I can actually capture it&rsquo\;s speed and energy. For me painting the sea has taught me that less is more.</span></span></p>\n\n<p style="white-space-collapse: preserve\; margin-bottom: 0px\; overflow-wrap: break-word\; color: rgb(0\, 0\, 0)\; font-family: europa\; font-size: 15px\; letter-spacing: 0.45px\;"><span style="font-size:14px\;"><span style="font-family:arial\;">Using the armature of the rectangle\, a limited palette and limiting my values I&rsquo\;ll demo my block in of moving water striving to maintain the scenes essence thru completion of the seascape. My goal is always to capture a feeling more than every ripple or droplet hoping to share the essence of the sea.</span><br />\n<br />\n<strong><span style="font-family:arial\;">Register <a href="https://raaam.wildapricot.org/event-6074682">HERE</a></span></strong></span></p>\n
LOCATION:
UID:e.2981.35117
SEQUENCE:3
DTSTAMP:20260425T011742Z
URL:https://business.capeannchamber.com/events/details/karen-blackwood-oil-painting-painting-the-essence-of-the-sea-35117
END:VEVENT

END:VCALENDAR
