BEGIN:VCALENDAR
VERSION:2.0
PRODID:-//ChamberMaster//Event Calendar 2.0//EN
METHOD:PUBLISH
X-PUBLISHED-TTL:P3D
REFRESH-INTERVAL:P3D
CALSCALE:GREGORIAN
BEGIN:VEVENT
DTSTART:20250830T233000Z
DTEND:20250831T013000Z
X-MICROSOFT-CDO-ALLDAYEVENT:FALSE
SUMMARY:Justin Hayward: Blue World Tour Featuring Mike Dawes
DESCRIPTION:Justin Hayward\, frontman of the Moody Blues and Rock & Roll Hall of Fame inductee\, returns to Rockport! He and renowned guitarist Mike Dawes will perform the band's beloved hits\, such as "Tuesday Afternoon" and "Nights in White Satin\," as well as deep cuts\, solo material\, and behind-the-scenes anecdotes.
X-ALT-DESC;FMTTYPE=text/html:<p><span style="color:rgb(0\, 0\, 0)\; font-family:open sans\,arial\,helvetica\,sans-serif\; font-size:16px">Justin Hayward\, frontman of the Moody Blues and Rock &amp\; Roll Hall of Fame inductee\, returns to Rockport! He and renowned guitarist Mike Dawes will perform the band&rsquo\;s beloved hits\, such as &ldquo\;Tuesday Afternoon&rdquo\; and &ldquo\;Nights in White Satin\,&rdquo\; as well as deep cuts\, solo material\, and behind-the-scenes anecdotes.</span></p>\n
LOCATION:37 Main St\, Rockport\, MA 01966
UID:e.2981.36779
SEQUENCE:3
DTSTAMP:20260424T235103Z
URL:https://business.capeannchamber.com/events/details/justin-hayward-36779
END:VEVENT

END:VCALENDAR
