BEGIN:VCALENDAR
VERSION:2.0
PRODID:-//ChamberMaster//Event Calendar 2.0//EN
METHOD:PUBLISH
X-PUBLISHED-TTL:P3D
REFRESH-INTERVAL:P3D
CALSCALE:GREGORIAN
BEGIN:VEVENT
DTSTART:20251213T140000Z
DTEND:20251213T190000Z
X-MICROSOFT-CDO-ALLDAYEVENT:FALSE
SUMMARY:Jul Fest at Spiran 2025
DESCRIPTION:The Nordic Christmas celebration\, Jul Fest\, will be held at Spiran Lodge\, Rockport. It will include the St. Lucia festival\, holiday music\, and lunch\, and a selection of Nordic foods including nisu\, as well as meats\, herring\, cheeses will be on sale.  Greens and Nordic gifts and linens will also be for sale.
X-ALT-DESC;FMTTYPE=text/html:<span style="font-size:14px\;">The Nordic Christmas celebration\, Jul Fest\, will be held at Spiran Lodge\, Rockport. It will include the St. Lucia festival\, holiday music\, and lunch\, and a selection of Nordic foods including nisu\, as well as meats\, herring\, cheeses will be on sale.&nbsp\; Greens and Nordic gifts and linens will also be for sale.</span>
LOCATION:Spiran Lodge At the corner of Broadway and School Streets
UID:e.2981.45509
SEQUENCE:3
DTSTAMP:20260422T021625Z
URL:https://business.capeannchamber.com/events/details/jul-fest-at-spiran-2025-45509
END:VEVENT

END:VCALENDAR
