BEGIN:VCALENDAR
VERSION:2.0
PRODID:-//ChamberMaster//Event Calendar 2.0//EN
METHOD:PUBLISH
X-PUBLISHED-TTL:P3D
REFRESH-INTERVAL:P3D
CALSCALE:GREGORIAN
BEGIN:VEVENT
DTSTART:20241214T140000Z
DTEND:20241214T180000Z
X-MICROSOFT-CDO-ALLDAYEVENT:FALSE
SUMMARY:Jul Fest at Spiran 2024
DESCRIPTION:The Nordic Christmas celebration\, Jul Fest\, will be held at Spiran Lodge\, Rockport\, at the corner of Broadway and School St. on Saturday\, December 14\, from 9   1 pm.  It will include the St. Lucia festival\, holiday music\, and lunch\, and a selection of Nordic foods including nisu\, as well as meats\, herring\, and cheeses will be on sale.   Greens and Nordic gifts and linens will also be for sale.
X-ALT-DESC;FMTTYPE=text/html:<span style="color:#1A1A1A\;"><span style="font-family:times new roman\,serif\;"><span style="font-size:13.5pt\;">The Nordic Christmas celebration\, Jul Fest\, will be held at Spiran Lodge\, Rockport\, at the corner of Broadway and School St. on Saturday\, December 14\, from 9 &ndash\; 1 pm.&nbsp\; It will include the St. Lucia festival\, holiday music\, and lunch\, and a selection of Nordic foods including nisu\, as well as meats\, herring\, and cheeses will be on sale.</span></span><span style="font-family:cambria\,serif\;"><span style="font-size:12.0pt\;">&nbsp\;</span></span><span style="font-family:times new roman\,serif\;"><span style="font-size:13.5pt\;"> &nbsp\;Greens and Nordic gifts and linens will also be for sale.</span></span></span>
LOCATION:Spiran Lodge The corner of Broadway and School Street Rockport\, MA 01966
UID:e.2981.34143
SEQUENCE:3
DTSTAMP:20260424T140433Z
URL:https://business.capeannchamber.com/events/details/jul-fest-at-spiran-2024-34143
END:VEVENT

END:VCALENDAR
