BEGIN:VCALENDAR
VERSION:2.0
PRODID:-//ChamberMaster//Event Calendar 2.0//EN
METHOD:PUBLISH
X-PUBLISHED-TTL:P3D
REFRESH-INTERVAL:P3D
CALSCALE:GREGORIAN
BEGIN:VEVENT
DTSTART:20250828T200000Z
DTEND:20250828T230000Z
X-MICROSOFT-CDO-ALLDAYEVENT:FALSE
SUMMARY:Jug of Punch and Michael O'Leary with Gary Dolinsky in concert
DESCRIPTION:Jug of Punch puts a modern twist on traditional Celtic music\, with lush vocal harmonies and a driving folk beat. Jug of Punch gets your hands clapping and your heart singing.\n\nMichael O'Leary and Gary Dolinsky will share a mix of maritime songs\, from tragic to comic\, relating to seafaring life around Cape Ann and coastal New England from the 1800's to recent times.\n\n\n\nThe Cape Ann Guitar Society is excited to present Folk Week - four nights of music where we showcase some of our area's most unique musical voices in a variety of venues on Cape Ann. Our diversity is our strength - get to know the folk music of the Puerto Rican countryside\, Jewish celebrations\, the Emerald Isle\, Cape Ann maritime tradition\, and modern Americana.
X-ALT-DESC;FMTTYPE=text/html:<p>Jug of Punch puts a modern twist on traditional Celtic music\, with lush vocal harmonies and a driving folk beat. Jug of Punch gets your hands clapping and your heart singing.</p>\n\n<p>Michael O&#39\;Leary and Gary Dolinsky will share a mix of maritime songs\, from tragic to comic\, relating to seafaring life around Cape Ann and coastal New England from the 1800&rsquo\;s to recent times.<br />\n<br />\nThe Cape Ann Guitar Society is excited to present Folk Week - four nights of music where we showcase some of our area&rsquo\;s most unique musical voices in a variety of venues on Cape Ann. Our diversity is our strength - get to know the folk music of the Puerto Rican countryside\, Jewish celebrations\, the Emerald Isle\, Cape Ann maritime tradition\, and modern Americana.</p>\n
LOCATION:Cultural Center at Rocky Neck\, 6 Wonson Street\, Gloucester\, MA\, 01930
UID:e.2981.43000
SEQUENCE:3
DTSTAMP:20260425T000058Z
URL:https://business.capeannchamber.com/events/details/jug-of-punch-and-michael-o-leary-with-gary-dolinsky-in-concert-43000
END:VEVENT

END:VCALENDAR
