BEGIN:VCALENDAR
VERSION:2.0
PRODID:-//ChamberMaster//Event Calendar 2.0//EN
METHOD:PUBLISH
X-PUBLISHED-TTL:P3D
REFRESH-INTERVAL:P3D
CALSCALE:GREGORIAN
BEGIN:VEVENT
DTSTART:20221204T010000Z
DTEND:20221204T030000Z
X-MICROSOFT-CDO-ALLDAYEVENT:FALSE
SUMMARY:Jon Butcher's Seaside Yuletide at Shalin Liu
DESCRIPTION:Three of the North Shore's most beloved songwriters and performers converge for A Seaside Yuletide\, a night of rootsy holiday spirit and song featuring Jon Butcher\, Allen Estes and Sal Baglio.
X-ALT-DESC;FMTTYPE=text/html:Three of the North Shore&rsquo\;s most beloved songwriters and performers converge for&nbsp\;A Seaside Yuletide\, a night of rootsy holiday spirit and song featuring Jon Butcher\, Allen Estes and Sal Baglio.
LOCATION:Shalin Liu Performance Center 37 Main Street Rockport\, MA
UID:e.2981.23092
SEQUENCE:3
DTSTAMP:20260424T090158Z
URL:https://business.capeannchamber.com/events/details/jon-butcher-s-seaside-yuletide-at-shalin-liu-23092
END:VEVENT

END:VCALENDAR
