BEGIN:VCALENDAR
VERSION:2.0
PRODID:-//ChamberMaster//Event Calendar 2.0//EN
METHOD:PUBLISH
X-PUBLISHED-TTL:P3D
REFRESH-INTERVAL:P3D
CALSCALE:GREGORIAN
BEGIN:VEVENT
DTSTART:20211107T000000Z
DTEND:20211107T000000Z
X-MICROSOFT-CDO-ALLDAYEVENT:FALSE
SUMMARY:Johnny A at Shalin Liu
DESCRIPTION:One of the most revered guitarists working the scene today\, Boston's own Johnny A has created a storied and long-lasting career built on his virtuosic playing\, compositional fortitude and distinctive style. On top of putting out his acclaimed new record\, Driven\, Johnny recently played lead guitar in the legendary blues rock supergroup of The Yardbirds.
X-ALT-DESC;FMTTYPE=text/html:One of the most revered guitarists working the scene today\, Boston&rsquo\;s own Johnny A has created a storied and long-lasting career built on his virtuosic playing\, compositional fortitude and distinctive style. On top of putting out his acclaimed new record\, Driven\, Johnny recently played lead guitar in the legendary blues rock supergroup of The Yardbirds.
LOCATION:
UID:e.2981.21258
SEQUENCE:3
DTSTAMP:20260424T140708Z
URL:https://business.capeannchamber.com/events/details/johnny-a-at-shalin-liu-21258
END:VEVENT

END:VCALENDAR
