BEGIN:VCALENDAR
VERSION:2.0
PRODID:-//ChamberMaster//Event Calendar 2.0//EN
METHOD:PUBLISH
X-PUBLISHED-TTL:P3D
REFRESH-INTERVAL:P3D
CALSCALE:GREGORIAN
BEGIN:VEVENT
DTSTART:20250413T190000Z
DTEND:20250413T210000Z
X-MICROSOFT-CDO-ALLDAYEVENT:FALSE
SUMMARY:Joey Alexander Trio
DESCRIPTION:Renowned as one of jazz's most extraordinary talents\, Joey Alexander captivates audiences with his virtuosic piano playing and inventive compositions. A three-time GRAMMY nominee\, he continues to push the boundaries of jazz with his latest album\, Continuance\, blending modern riffs with soulful melodies. Performing in a trio\, Joey delivers deeply personal and unforgettable performances.
X-ALT-DESC;FMTTYPE=text/html:<p><span style="background-color:rgb(250\, 250\, 250)\; color:rgb(0\, 0\, 0)\; font-family:open sans\,helvetica neue\,helvetica\,arial\,sans-serif\; font-size:18px">Renowned as one of jazz&rsquo\;s most extraordinary talents\, Joey Alexander captivates audiences with his virtuosic piano playing and inventive compositions.&nbsp\;A three-time GRAMMY nominee\, he continues to push the boundaries of jazz with his latest album\,&nbsp\;</span><em>Continuance</em><span style="background-color:rgb(250\, 250\, 250)\; color:rgb(0\, 0\, 0)\; font-family:open sans\,helvetica neue\,helvetica\,arial\,sans-serif\; font-size:18px">\, blending modern riffs with soulful melodies. Performing in a trio\, Joey delivers deeply personal and unforgettable performances.</span></p>\n
LOCATION:37 Main St\, Rockport\, MA 01966
UID:e.2981.35183
SEQUENCE:3
DTSTAMP:20260424T140702Z
URL:https://business.capeannchamber.com/events/details/joey-alexander-35183
END:VEVENT

END:VCALENDAR
