BEGIN:VCALENDAR
VERSION:2.0
PRODID:-//ChamberMaster//Event Calendar 2.0//EN
METHOD:PUBLISH
X-PUBLISHED-TTL:P3D
REFRESH-INTERVAL:P3D
CALSCALE:GREGORIAN
BEGIN:VEVENT
DTSTART:20251022T200000Z
DTEND:20251022T220000Z
X-MICROSOFT-CDO-ALLDAYEVENT:FALSE
SUMMARY:Joe Smith - Scratchboard Demonstration\, RAA&M Artist Demonstration at the Emerson Inn
DESCRIPTION:Joe Smith - Scratchboard Demonstration at the Emerson Inn\n\nWednesday\, October 22\, 2025\, 4 - 6PM\n\n\n\nJoin Rockport Art Association & Museum and Juried Artist Member\, Joe Smith for a scratchboard demonstration at the Emerson Inn. Joe will give an introduction to scratchboard materials and tools\, discuss various techniques\, and sow and discuss some completed scratchboard pieces.
X-ALT-DESC;FMTTYPE=text/html:Joe Smith - Scratchboard Demonstration at the Emerson Inn<br />\nWednesday\, October 22\, 2025\, 4 - 6PM<br />\n<br />\nJoin Rockport Art Association &amp\; Museum and Juried Artist Member\, Joe Smith for a scratchboard demonstration at the Emerson Inn. Joe will give an introduction to scratchboard materials and tools\, discuss various techniques\, and sow and discuss some completed scratchboard pieces.
LOCATION:Emerson Inn Ocean View Terrace\, lower level 1 Cathedral Avenue Rockport\, MA 01966
UID:e.2981.45177
SEQUENCE:3
DTSTAMP:20260425T024446Z
URL:https://business.capeannchamber.com/events/details/joe-smith-scratchboard-demonstration-raa-m-artist-demonstration-at-the-emerson-inn-45177
END:VEVENT

END:VCALENDAR
