BEGIN:VCALENDAR
VERSION:2.0
PRODID:-//ChamberMaster//Event Calendar 2.0//EN
METHOD:PUBLISH
X-PUBLISHED-TTL:P3D
REFRESH-INTERVAL:P3D
CALSCALE:GREGORIAN
BEGIN:VEVENT
DTSTART:20140629T210000Z
DTEND:20140629T210000Z
X-MICROSOFT-CDO-ALLDAYEVENT:FALSE
SUMMARY:Jeremy Denk\, piano
DESCRIPTION:One of the 2013 MacArthur Award Winners\, Jeremy Denk has established himself as one of America's most thought-provoking\, multi-faceted and compelling artists.  His program will feature Charles Ives's Piano Sonata No. 2 ''Concord\, Mass.\, 1840-60'' and J.S. Bach's Goldberg Variations.  Tickets: $68/$58/$49
X-ALT-DESC;FMTTYPE=text/html:One of the 2013 MacArthur Award Winners\, Jeremy Denk has established himself as one of America's most thought-provoking\, multi-faceted and compelling artists.  His program will feature Charles Ives's Piano Sonata No. 2 ''Concord\, Mass.\, 1840-60'' and J.S. Bach's Goldberg Variations.  Tickets: $68/$58/$49
LOCATION:Shalin Liu Performance Center\, Rockport\, Ma 01966
UID:e.2981.1258
SEQUENCE:3
DTSTAMP:20260419T174816Z
URL:https://business.capeannchamber.com/events/details/jeremy-denk-piano-06-29-2014-1258
END:VEVENT

END:VCALENDAR
