BEGIN:VCALENDAR
VERSION:2.0
PRODID:-//ChamberMaster//Event Calendar 2.0//EN
METHOD:PUBLISH
X-PUBLISHED-TTL:P3D
REFRESH-INTERVAL:P3D
CALSCALE:GREGORIAN
BEGIN:VEVENT
DTSTART:20260709T210000Z
DTEND:20260710T003000Z
X-MICROSOFT-CDO-ALLDAYEVENT:FALSE
SUMMARY:Jazz Night with Horizon & the Horns
DESCRIPTION:Join us for the classical sounds of jazz played by local favorite Horizon and the Horns! Food trucks\, drinks\, and ocean views.\n\n\n\n\nEnjoy classical sounds of jazz played by local favorite Horizon and the Horns! Jazz\, ocean views\, drinks\, food and friends\; what else could you need!\n\nDelicious food will be available to purchase from these food trucks: Fat Belly BBQ and the Lobster Roller. Cash bar will be selling a selection of beer\, wine\, and signature cocktails.\n\n\n	Doors open at 5p.m.\; Concert begins at 6p.m.\n	Outside food or beverage not permitted.\n	No totes\, bags\, or coolers allowed.\n	Please bring your own lawn chairs/blankets.\n	This event is rain or shine. Tickets are non-refundable.\n\n\nPARKING: Free for all attendees. Accessible parking spots are located on the Misselwood property. Additional parking will be available across the street in the Frates Lot.\n\nKids under 12 are free with an adult. Online sales of $25.00 per ticket ends on Thursday\, July 9 at 12pm. Tickets purchased at the door are $30.00 each.\n\nPlease call Misselwood events at 978-232-2128 with any questions.
X-ALT-DESC;FMTTYPE=text/html:<div>\n<p>Join us for the classical sounds of jazz played by local favorite Horizon and the Horns! Food trucks\, drinks\, and ocean views.</p>\n</div>\n\n<div>\n<div>\n<p>Enjoy classical sounds of jazz played by local favorite Horizon and the Horns! Jazz\, ocean views\, drinks\, food and friends\; what else could you need!</p>\n\n<p>Delicious food will be available to purchase from these food trucks:&nbsp\;<a href="http://www.fatbellybbq.com/" rel="nofollow noopener noreferrer" style="box-sizing: border-box\; padding: 0px\; margin: 0px\; color: rgb(54\, 89\, 227)\;" target="_blank" title="http://www.fatbellybbq.com/">Fat Belly BBQ</a>&nbsp\;and the&nbsp\;<a href="https://thelobsterroller.com/" rel="nofollow noopener noreferrer" style="box-sizing: border-box\; padding: 0px\; margin: 0px\; color: rgb(54\, 89\, 227)\;" target="_blank" title="https://thelobsterroller.com/">Lobster Roller</a>. Cash bar will be selling a selection of beer\, wine\, and signature cocktails.</p>\n\n<ul>\n	<li>Doors open at 5p.m.\; Concert begins at 6p.m.</li>\n	<li>Outside food or beverage not permitted.</li>\n	<li>No totes\, bags\, or coolers allowed.</li>\n	<li>Please bring your own lawn chairs/blankets.</li>\n	<li>This event is rain or shine.&nbsp\;Tickets are non-refundable.</li>\n</ul>\n\n<p>PARKING: Free for all attendees. Accessible parking spots are located on the Misselwood property. Additional parking will be available across the street in the Frates Lot.</p>\n\n<p>Kids under 12 are free with an adult. Online sales of $25.00 per ticket ends on Thursday\, July 9 at 12pm. Tickets purchased at the door are $30.00 each.</p>\n\n<p>Please call Misselwood events at&nbsp\;<a href="https://www.eventbrite.com/e/jazz-by-the-sea-tickets-1981178181272" rel="nofollow noopener noreferrer" style="box-sizing: border-box\; padding: 0px\; margin: 0px\; color: rgb(54\, 89\, 227)\;" target="_blank" title=""><avayaelement class="contentWrapper"><avayaelement callelement="+449782322128" class="dcelink" id="dceLink-1" originaltext="978-232-2128">978-232-2128</avayaelement></avayaelement></a>&nbsp\;with any questions.</p>\n</div>\n</div>\n
LOCATION:407 Hale Street\, Beverly MA\, 01915
UID:e.2981.46479
SEQUENCE:3
DTSTAMP:20260424T223125Z
URL:https://business.capeannchamber.com/events/details/jazz-night-with-horizon-the-horns-46479
END:VEVENT

END:VCALENDAR
