BEGIN:VCALENDAR
VERSION:2.0
PRODID:-//ChamberMaster//Event Calendar 2.0//EN
METHOD:PUBLISH
X-PUBLISHED-TTL:P3D
REFRESH-INTERVAL:P3D
CALSCALE:GREGORIAN
BEGIN:VEVENT
DTSTART:20250405T000000Z
DTEND:20250405T020000Z
X-MICROSOFT-CDO-ALLDAYEVENT:FALSE
SUMMARY:Jazz at Lincoln Center Presents: New Orleans Songbook
DESCRIPTION:Jazz at Lincoln Center brings the soul of New Orleans and the spirit of Mardi Gras to Rockport\, celebrating the composers and inspired songs of the Crescent City\, the historic epicenter of jazz.
X-ALT-DESC;FMTTYPE=text/html:<p><span style="background-color:rgb(250\, 250\, 250)\; color:rgb(0\, 0\, 0)\; font-family:open sans\,helvetica neue\,helvetica\,arial\,sans-serif\; font-size:18px">Jazz at Lincoln Center brings the soul of New Orleans and the spirit of Mardi Gras to Rockport\, celebrating the composers and inspired songs of the Crescent City\, the historic epicenter of jazz.</span></p>\n
LOCATION:37 Main St\, Rockport\, MA 01966
UID:e.2981.35175
SEQUENCE:3
DTSTAMP:20260424T124228Z
URL:https://business.capeannchamber.com/events/details/jazz-at-lincoln-center-presents-new-orleans-songbook-35175
END:VEVENT

END:VCALENDAR
