BEGIN:VCALENDAR
VERSION:2.0
PRODID:-//ChamberMaster//Event Calendar 2.0//EN
METHOD:PUBLISH
X-PUBLISHED-TTL:P3D
REFRESH-INTERVAL:P3D
CALSCALE:GREGORIAN
BEGIN:VEVENT
DTSTART:20140612T170000Z
DTEND:20140612T170000Z
X-MICROSOFT-CDO-ALLDAYEVENT:FALSE
SUMMARY:Jaques Brel is Alive and Living in Paris
DESCRIPTION:Often haunting\, always vividly dramatic\, sometimes funny\, heart-rending and poetic\, the songs of Jacques Brel have been \nrecorded by countless artists throughout the world. Encompassing themes of joy and sorrow\, love and loss\, life and death\, \nthis compilation of Brel's finest work celebrates the diverse complexity of the human heart.
X-ALT-DESC;FMTTYPE=text/html:Often haunting\, always vividly dramatic\, sometimes funny\, heart-rending and poetic\, the songs of Jacques Brel have been \nrecorded by countless artists throughout the world. Encompassing themes of joy and sorrow\, love and loss\, life and death\, \nthis compilation of Brel's finest work celebrates the diverse complexity of the human heart. 
LOCATION:267 East Main Street\, Gloucester\, MA 01930 267 East Main Street\, Gloucester MA 01930
UID:e.2981.1296
SEQUENCE:3
DTSTAMP:20260419T174953Z
URL:https://business.capeannchamber.com/events/details/jaques-brel-is-alive-and-living-in-paris-06-12-2014-1296
END:VEVENT

END:VCALENDAR
