BEGIN:VCALENDAR
VERSION:2.0
PRODID:-//ChamberMaster//Event Calendar 2.0//EN
METHOD:PUBLISH
X-PUBLISHED-TTL:P3D
REFRESH-INTERVAL:P3D
CALSCALE:GREGORIAN
BEGIN:VEVENT
DTSTART:20250412T000000Z
DTEND:20250412T020000Z
X-MICROSOFT-CDO-ALLDAYEVENT:FALSE
SUMMARY:Jacob Jolliff
DESCRIPTION:After wowing audiences as part of B la Fleck's band in 2022 and then with his band in 2023\, mandolinist Jacob Jolliff returns to Rockport. A former member of two massively popular progressive bluegrass bands\, Joy Kills Sorrow and the Yonder Mountain String Band\, Jolliff remains one of the country's premier contemporary mandolinists.
X-ALT-DESC;FMTTYPE=text/html:<p><span style="background-color:rgb(250\, 250\, 250)\; color:rgb(0\, 0\, 0)\; font-family:open sans\,helvetica neue\,helvetica\,arial\,sans-serif\; font-size:18px">After wowing audiences as part of B&eacute\;la Fleck&rsquo\;s band in 2022 and then with his band in 2023\, mandolinist Jacob Jolliff returns to Rockport. A former member of two massively popular progressive bluegrass bands\, Joy Kills Sorrow and the Yonder Mountain String Band\, Jolliff remains one of the country&#39\;s premier contemporary mandolinists.</span></p>\n
LOCATION:37 Main St\, Rockport\, MA 01966
UID:e.2981.35181
SEQUENCE:3
DTSTAMP:20260424T140702Z
URL:https://business.capeannchamber.com/events/details/jacob-jolliff-35181
END:VEVENT

END:VCALENDAR
