BEGIN:VCALENDAR
VERSION:2.0
PRODID:-//ChamberMaster//Event Calendar 2.0//EN
METHOD:PUBLISH
X-PUBLISHED-TTL:P3D
REFRESH-INTERVAL:P3D
CALSCALE:GREGORIAN
BEGIN:VEVENT
DTSTART:20250918T213000Z
DTEND:20250918T233000Z
X-MICROSOFT-CDO-ALLDAYEVENT:FALSE
SUMMARY:Ipswich YMCA Impact Event
DESCRIPTION:Held on our Camp Dory property in a beautiful new timber frame pavilion overlooking Chebacco Lake\, the evening will be an opportunity for you to hear about the impact our Y has made in the lives of children and adults through a variety of programs including summer camp and food assistance. You'll get a chance to hear from program participants\, as well as board members\, about initiatives that our Y delivers to meet needs specific to the communities we serve. True North Brewery and Tim Hopkins Catering will be on hand serving beer\, wine\, and hors devours making the evening as delicious as it will be informative and fun.
X-ALT-DESC;FMTTYPE=text/html:<span data-olk-copy-source="MessageBody">Held on our Camp Dory property in a beautiful new timber frame pavilion overlooking Chebacco Lake\, the evening will be an opportunity for you to hear about the impact our Y has made in the lives of children and adults through a variety of programs including summer camp and food assistance. You&#39\;ll get a chance to hear from program participants\, as well as board members\, about initiatives that our Y delivers to meet needs specific to the communities we serve. True North Brewery and Tim Hopkins Catering will be on hand serving beer\, wine\, and hors devours making the evening as delicious as it will be informative and fun.</span><!--EndFragment-->
LOCATION:YMCA Camp Dory Centennial Grove\, Essex MA
UID:e.2981.43130
SEQUENCE:3
DTSTAMP:20260425T011136Z
URL:https://business.capeannchamber.com/events/details/ipswich-ymca-impact-event-43130
END:VEVENT

END:VCALENDAR
