BEGIN:VCALENDAR
VERSION:2.0
PRODID:-//ChamberMaster//Event Calendar 2.0//EN
METHOD:PUBLISH
X-PUBLISHED-TTL:P3D
REFRESH-INTERVAL:P3D
CALSCALE:GREGORIAN
BEGIN:VEVENT
DTSTART:20211218T160000Z
DTEND:20211218T170000Z
X-MICROSOFT-CDO-ALLDAYEVENT:FALSE
SUMMARY:Ipswich Jingle Bell Walk
DESCRIPTION:Due an unusually busy schedule and travel restrictions\, Santa Claus will visit Ipswich a bit later this year.  On December 18\, the Jolly Elf will once again arrive by boat at Town Wharf.  Upon his arrival\, our guest of honor will be escorted by the Ipswich High School Interact elves on a 'Jingle Bell Walk' along Water Street to Town Hall.  At Town Hall\, Santa will greet the children while the elves host fun games and activities in Santa's Village.  \n\n \n\nThe arrival is scheduled for 11 am\, at the wharf.\n\n \n\nThis event is an annual gift to the town from Ipswich High School Interact.
X-ALT-DESC;FMTTYPE=text/html:<div style="box-sizing: border-box\; color: rgb(34\, 34\, 34)\; font-family: &quot\;Open Sans&quot\;\, Helvetica\, Arial\, sans-serif\; font-size: 15px\;"><span style="font-size:12px\;"><span style="box-sizing: border-box\;"><span style="box-sizing: border-box\; font-family: verdana\, geneva\, sans-serif\;">Due an unusually busy schedule and travel restrictions\,&nbsp\;Santa Claus will visit Ipswich a bit later this year. &nbsp\;On December 18\, the Jolly Elf will once again arrive&nbsp\;by boat at Town Wharf. &nbsp\;</span></span></span><span style="font-size:12px\;"><span style="box-sizing: border-box\;"><span style="box-sizing: border-box\; font-family: verdana\, geneva\, sans-serif\;">Upon his arrival\, our guest of honor&nbsp\;will be escorted by the Ipswich High School Interact elves on a &#39\;Jingle Bell Walk&#39\; along Water Street to Town Hall. &nbsp\;At Town Hall\, Santa will greet the children while the elves&nbsp\;host fun games and activities in Santa&#39\;s Village. &nbsp\;</span></span></span></div>\n\n<div style="box-sizing: border-box\; color: rgb(34\, 34\, 34)\; font-family: &quot\;Open Sans&quot\;\, Helvetica\, Arial\, sans-serif\; font-size: 15px\;">&nbsp\;</div>\n\n<div style="box-sizing: border-box\; color: rgb(34\, 34\, 34)\; font-family: &quot\;Open Sans&quot\;\, Helvetica\, Arial\, sans-serif\; font-size: 15px\;"><span style="font-size:12px\;"><span style="box-sizing: border-box\;"><span style="box-sizing: border-box\; font-family: verdana\, geneva\, sans-serif\;">The arrival is scheduled for 11 am\, at the wharf.</span></span></span></div>\n\n<div style="box-sizing: border-box\; color: rgb(34\, 34\, 34)\; font-family: &quot\;Open Sans&quot\;\, Helvetica\, Arial\, sans-serif\; font-size: 15px\;">&nbsp\;</div>\n\n<div style="box-sizing: border-box\; color: rgb(34\, 34\, 34)\; font-family: &quot\;Open Sans&quot\;\, Helvetica\, Arial\, sans-serif\; font-size: 15px\;"><span style="font-size:12px\;"><em style="box-sizing: border-box\;"><span style="box-sizing: border-box\;"><span style="box-sizing: border-box\; font-family: verdana\, geneva\, sans-serif\;">This event is an annual gift to the town from Ipswich High School Interact.&nbsp\;&nbsp\;</span></span></em></span></div>\n
LOCATION:Water Street Ipswich\, MA
UID:e.2981.21558
SEQUENCE:3
DTSTAMP:20260425T034917Z
URL:https://business.capeannchamber.com/events/details/ipswich-jingle-bell-walk-21558
END:VEVENT

END:VCALENDAR
