BEGIN:VCALENDAR
VERSION:2.0
PRODID:-//ChamberMaster//Event Calendar 2.0//EN
METHOD:PUBLISH
X-PUBLISHED-TTL:P3D
REFRESH-INTERVAL:P3D
CALSCALE:GREGORIAN
BEGIN:VEVENT
DTSTART:20250704T140000Z
DTEND:20250704T150000Z
X-MICROSOFT-CDO-ALLDAYEVENT:FALSE
SUMMARY:Ipswich Independence Day Celebration
DESCRIPTION:July 4th Field Day at Ipswich Town Hall Athletic Fields!  \n\nGrab your family and friends and head to the fields for an afternoon packed with patriotic fun from 10 to 11 AM.\n\n\n\n  Hosted by MC Selectman Michael Dougherty\n\n  Live tunes by Jiggle The Handle (Dixieland favorites!)\n\n  A stirring reading of the Declaration of Independence by Daniel Kelly\n\n  Cool off with juicy watermelon & ice cream sandwiches\n\n  Old-fashioned games & activities for all ages: including Ipswich Fire Dept. Bucket Brigade\, Lady Liberty Ring Toss\, Paul Revere Stick Pony Rides\, Boston Tea Party Bean Bag
X-ALT-DESC;FMTTYPE=text/html:<span style="font-size:16px\;"><span style="font-family:segoe ui emoji\,sans-serif\;">&#127879\;</span> <strong>July 4th Field Day at Ipswich Town Hall Athletic Fields!</strong> <span style="font-family:segoe ui emoji\,sans-serif\;">&#127879\;</span><br />\nGrab your family and friends and head to the fields for an afternoon packed with patriotic fun from 10 to 11 AM.</span><br />\n<br />\n<span style="font-family:segoe ui emoji\,sans-serif\;"><span style="font-size:12.0pt\;">&#127908\;</span></span><span style="font-family:aptos\,sans-serif\;"><span style="font-size:12.0pt\;"> Hosted by MC Selectman Michael Dougherty</span></span><br />\n<span style="font-family:segoe ui emoji\,sans-serif\;"><span style="font-size:12.0pt\;">&#127930\;</span></span><span style="font-family:aptos\,sans-serif\;"><span style="font-size:12.0pt\;"> Live tunes by Jiggle The Handle (Dixieland favorites!)</span></span><br />\n<span style="font-family:segoe ui emoji\,sans-serif\;"><span style="font-size:12.0pt\;">&#128220\;</span></span><span style="font-family:aptos\,sans-serif\;"><span style="font-size:12.0pt\;"> A stirring reading of the Declaration of Independence by Daniel Kelly</span></span><br />\n<span style="font-family:segoe ui emoji\,sans-serif\;"><span style="font-size:12.0pt\;">&#127817\;</span></span><span style="font-family:aptos\,sans-serif\;"><span style="font-size:12.0pt\;"> Cool off with juicy watermelon &amp\; ice cream sandwiches</span></span><br />\n<span style="font-family:segoe ui emoji\,sans-serif\;"><span style="font-size:12.0pt\;">&#127881\;</span></span><span style="font-family:aptos\,sans-serif\;"><span style="font-size:12.0pt\;"> Old-fashioned games &amp\; activities for all ages: including Ipswich Fire Dept. Bucket Brigade\, Lady Liberty Ring Toss\, Paul Revere Stick Pony Rides\, Boston Tea Party Bean Bag&nbsp\;</span></span>
LOCATION:Ipswich Town Hall\, Green Street
UID:e.2981.37322
SEQUENCE:3
DTSTAMP:20260422T093409Z
URL:https://business.capeannchamber.com/events/details/ipswich-independence-day-celebration-37322
END:VEVENT

END:VCALENDAR
