BEGIN:VCALENDAR
VERSION:2.0
PRODID:-//ChamberMaster//Event Calendar 2.0//EN
METHOD:PUBLISH
X-PUBLISHED-TTL:P3D
REFRESH-INTERVAL:P3D
CALSCALE:GREGORIAN
BEGIN:VEVENT
DTSTART:20241211T220000Z
DTEND:20241212T000000Z
X-MICROSOFT-CDO-ALLDAYEVENT:FALSE
SUMMARY:Ipswich Holiday Party 2024
DESCRIPTION:Join the Ipswich Division of the Cape Ann Chamber of Commerce for the Annual Holiday Party at the Ipswich Ale Brewer's Table. All businesses (Members & Non-Members) in the Ipswich Division are invited to attend. Appetizers and a cash bar will be offered.
X-ALT-DESC;FMTTYPE=text/html:Join the Ipswich Division of the Cape Ann Chamber of Commerce for the Annual Holiday Party at the Ipswich Ale Brewer&#39\;s Table. All businesses (Members &amp\; Non-Members) in the Ipswich Division are invited to attend. Appetizers and a cash bar will be offered.
LOCATION:Ipswich Ale Brewer's Table (Rear event space)
UID:e.2981.34165
SEQUENCE:3
DTSTAMP:20260424T140453Z
URL:https://business.capeannchamber.com/events/details/ipswich-holiday-party-2024-34165
END:VEVENT

END:VCALENDAR
