BEGIN:VCALENDAR
VERSION:2.0
PRODID:-//ChamberMaster//Event Calendar 2.0//EN
METHOD:PUBLISH
X-PUBLISHED-TTL:P3D
REFRESH-INTERVAL:P3D
CALSCALE:GREGORIAN
BEGIN:VEVENT
DTSTART:20250602T160000Z
DTEND:20250602T220000Z
X-MICROSOFT-CDO-ALLDAYEVENT:FALSE
SUMMARY:Ipswich Family YMCA Golf Tournament
DESCRIPTION:Our golf tournaments are so much more than a great day on the greens  it's about transforming the lives of children in our community. By participating\, you're giving local kids the chance to experience the magic of camp: discover nature\, build lifelong friendships\, and develop the confidence to take on life's challenges. \n\n\n\nEvery dollar raised goes directly to breaking down barriers so all campers can access life-changing experiences. Your support funds scholarships\, supplies\, and enriching programs\, ensuring every child no matter their circumstances has the chance to thrive.
X-ALT-DESC;FMTTYPE=text/html:<div>\n<div>\n<div>\n<p><span style="color:rgb(35\, 31\, 32)">Our golf tournaments are so much more than a great day on the greens&mdash\; it&rsquo\;s about transforming the lives of children in our community. By participating\, you&rsquo\;re giving local kids the chance to experience the magic of camp: discover nature\, build lifelong friendships\, and develop the confidence to take on life&rsquo\;s challenges. </span></p>\n</div>\n\n<div>\n<p><span style="color:rgb(35\, 31\, 32)">Every dollar raised goes directly to breaking down barriers so all campers can access life-changing experiences. Your support funds scholarships\, supplies\, and enriching programs\, ensuring every child&mdash\;no matter their circumstances&mdash\;has the chance to thrive.</span></p>\n</div>\n</div>\n</div>\n
LOCATION:Turner Hill Golf Club 251 Topsfield Road Ipswich\, MA 01938
UID:e.2981.35118
SEQUENCE:3
DTSTAMP:20260424T211552Z
URL:https://business.capeannchamber.com/events/details/ipswich-family-ymca-golf-tournament-35118
END:VEVENT

END:VCALENDAR
