BEGIN:VCALENDAR
VERSION:2.0
PRODID:-//ChamberMaster//Event Calendar 2.0//EN
METHOD:PUBLISH
X-PUBLISHED-TTL:P3D
REFRESH-INTERVAL:P3D
CALSCALE:GREGORIAN
BEGIN:VEVENT
DTSTART;VALUE=DATE:20260601
DTEND;VALUE=DATE:20260602
TRANSP:TRANSPARENT
X-MICROSOFT-CDO-ALLDAYEVENT:TRUE
SUMMARY:Ipswich Family YMCA Golf Tournament
DESCRIPTION:Fore the Future: A Summer Camp Promise\n\n\n\nThis tournament is not just a great day on a great course. It's about:\n\n\n- Transforming lives of children\n\n- Delivering on the promise of camp\n\n- Building confidence\, connection and memories that last a lifetime\n\n \n\n\n\n100% Direct Support: Every dollar raised goes directly to the Ipswich Family YMCA.\n\n\n\nCamper Scholarships: Your support breaks down barriers\, funding scholarships so every child no matter their circumstances gets the chance to thrive.\n\n\n\nThe Gift of Growth: When you tee off\, you are giving kids the gift of growth\, fun\, and unforgettable memories\, making an impact far beyond the course!
X-ALT-DESC;FMTTYPE=text/html:<p style="text-align:center"><span style="color:rgb(168\, 88\, 168)"><em><strong><span style="font-family:verdana\,geneva\,sans-serif\; font-size:14pt">Fore the Future: A Summer Camp Promise</span></strong></em></span></p>\n\n<div>\n<div style="text-align:center">\n<p><span style="font-family:verdana\,geneva\,sans-serif\; font-size:14pt">This tournament is not just a great day on a great course. It&rsquo\;s about:</span></p>\n</div>\n\n<div style="text-align:center"><span style="font-family:verdana\,geneva\,sans-serif\; font-size:14pt">- Transforming lives of children</span></div>\n\n<div style="text-align:center"><span style="font-family:verdana\,geneva\,sans-serif\; font-size:14pt">- Delivering on the promise of camp</span></div>\n\n<div style="text-align:center"><span style="font-family:verdana\,geneva\,sans-serif\; font-size:14pt">- Building confidence\, connection and memories that last a lifetime</span></div>\n\n<div style="text-align:center"><span style="font-family:verdana\,geneva\,sans-serif">&nbsp\;</span></div>\n\n<div style="text-align:center">\n<div>\n<p><span style="font-family:verdana\,geneva\,sans-serif\; font-size:14pt">100% Direct Support: Every dollar raised goes directly to the Ipswich Family YMCA.</span></p>\n</div>\n\n<div>\n<p><span style="font-family:verdana\,geneva\,sans-serif\; font-size:14pt">Camper Scholarships: Your support breaks down barriers\, funding scholarships so every child&mdash\;no matter their circumstances&mdash\;gets the chance to thrive.</span></p>\n</div>\n\n<div>\n<p><span style="font-family:verdana\,geneva\,sans-serif\; font-size:14pt">The Gift of Growth: When you tee off\, you are giving kids the gift of growth\, fun\, and unforgettable memories\, making an impact far beyond the course!</span></p>\n</div>\n</div>\n</div>\n
LOCATION:The Golf Club at Turner Hill 251 Topsfield Road | Ipswich\, MA 01938
UID:e.2981.46408
SEQUENCE:3
DTSTAMP:20260421T145826Z
URL:https://business.capeannchamber.com/events/details/ipswich-family-ymca-golf-tournament-06-01-2026-46408
END:VEVENT

END:VCALENDAR
