BEGIN:VCALENDAR
VERSION:2.0
PRODID:-//ChamberMaster//Event Calendar 2.0//EN
METHOD:PUBLISH
X-PUBLISHED-TTL:P3D
REFRESH-INTERVAL:P3D
CALSCALE:GREGORIAN
BEGIN:VEVENT
DTSTART:20260721T220000Z
DTEND:20260722T000000Z
X-MICROSOFT-CDO-ALLDAYEVENT:FALSE
SUMMARY:Ipswich Downtown Tuesdays 2026
DESCRIPTION:Enjoy live music and dancing on the riverwalk in downtown Ipswich every Tuesday in July and August. Free to the public and fun for the whole family!\n\n\n\nStay tuned for this year's line up!
X-ALT-DESC;FMTTYPE=text/html:<span style="font-size: 14px\;"><span style="font-family: arial\;">Enjoy live music and dancing on the riverwalk in downtown Ipswich every Tuesday in July and August. Free to the public and fun for the whole family!<br />\n<br />\nStay tuned for this year&#39\;s line up!</span></span><br />\n<br />\n<br />\n&nbsp\;
LOCATION:EBSCO Takeout Terrace Ipswich Riverwalk Ipswich MA
UID:e.2981.46127
SEQUENCE:3
DTSTAMP:20260425T010841Z
URL:https://business.capeannchamber.com/events/details/ipswich-downtown-tuesdays-2026-07-21-2026-46127
END:VEVENT

END:VCALENDAR
