BEGIN:VCALENDAR
VERSION:2.0
PRODID:-//ChamberMaster//Event Calendar 2.0//EN
METHOD:PUBLISH
X-PUBLISHED-TTL:P3D
REFRESH-INTERVAL:P3D
CALSCALE:GREGORIAN
BEGIN:VEVENT
DTSTART:20250729T220000Z
DTEND:20250730T000000Z
X-MICROSOFT-CDO-ALLDAYEVENT:FALSE
SUMMARY:Ipswich Downtown Tuesdays 2025
DESCRIPTION:Enjoy live music and dancing on the riverwalk in downtown Ipswich every Tuesday in July and August. Free to the public and fun for the whole family!\n\n\n\nDOWNLOAD FLYER\n\n\n\n2025 Line Up\n\n\n\nJuly\n\n1:  Orville Giddings\n\n8:  Surnames\n\n15: Gigi & The Noize\n\n22:  Chuck & The Players\n\n29:  Jacobi & Friends\n\n\n\nAugust: \n\n5:  Tree House Charlatans\n\n12:  Deep Blue\n\n19:  Labor in Vain\n\n26:  What Time is Ir Mr. Fox?\n\n\n\nThank you to Our Sponsors!\n\n\n\nPresenting Sponsor:\n\nChoice Graphics\n\n\n\nGold Sponsors:\n\nAll Season Septic\n\nAubuchon Hardware\n\nMorris Plumbing\, Heating & Air Conditioning\n\n\n\nSupporting Sponsors:\n\nThe James Pub & Provisions\n\nThe Residence at Riverbend\n\n\n\nCommunity Sponsor:\n\nRussell Orchards
X-ALT-DESC;FMTTYPE=text/html:<span style="font-size: 14px\;"><span style="font-family: arial\;">Enjoy live music and dancing on the riverwalk in downtown Ipswich every Tuesday in July and August. Free to the public and fun for the whole family!<br />\n<br />\n<a href="https://chambermaster.blob.core.windows.net/userfiles/UserFiles/chambers/2981/File/Downtown-Tuesdays-Flyer-2025-June-18.pdf">DOWNLOAD FLYER</a><br />\n<br />\n<span style="font-size: 16px\;"><span style="color:#FF0000\;"><strong><u>2025 Line Up</u></strong></span><br />\n<br />\n<strong>July</strong><br />\n<strong>1</strong>:&nbsp\; Orville Giddings</span></span></span><br />\n<span style="font-size: 16px\;"><span style="font-family: arial\;"><strong>8</strong>:&nbsp\; Surnames</span><br />\n<span style="font-family: arial\;"><strong>15</strong>: Gigi &amp\; The Noize</span><br />\n<span style="font-family: arial\;"><strong>22</strong>:&nbsp\; Chuck &amp\; The Players</span><br />\n<span style="font-family: arial\;"><strong>29</strong>:&nbsp\; Jacobi &amp\; Friends</span><br />\n<br />\n<span style="font-family: arial\;"><strong>August</strong>:&nbsp\;<br />\n<strong>5</strong>:&nbsp\; Tree House Charlatans</span><br />\n<span style="font-family: arial\;"><strong>12</strong>:&nbsp\; Deep Blue</span><br />\n<span style="font-family: arial\;"><strong>19</strong>:&nbsp\; Labor in Vain</span><br />\n<span style="font-family: arial\;"><strong>26</strong>:&nbsp\; What Time is Ir Mr. Fox?<br />\n<br />\n<strong>Thank you to Our Sponsors!</strong><br />\n<br />\n<em><u>Presenting Sponsor:</u></em><br />\nChoice Graphics<br />\n<br />\n<em><u>Gold Sponsors:</u></em><br />\nAll Season Septic</span></span><br />\n<span style="font-family: arial\; font-size: 16px\;">Aubuchon Hardware</span><br />\n<span style="font-family: arial\; font-size: 16px\;">Morris Plumbing\, Heating &amp\; Air Conditioning</span><br />\n<br />\n<span style="font-size: 16px\;"><span style="font-family: arial\;"><em><u>Supporting Sponsors:</u></em><br />\nThe James Pub &amp\; Provisions<br />\nThe Residence at Riverbend<br />\n<br />\n<em><u>Community Sponsor:</u></em><br />\nRussell Orchards</span></span><br />\n&nbsp\;
LOCATION:EBSCO Takeout Terrace Ipswich Riverwalk Ipswich MA
UID:e.2981.37441
SEQUENCE:3
DTSTAMP:20260424T223357Z
URL:https://business.capeannchamber.com/events/details/ipswich-downtown-tuesdays-2025-07-29-2025-37441
END:VEVENT

END:VCALENDAR
