BEGIN:VCALENDAR
VERSION:2.0
PRODID:-//ChamberMaster//Event Calendar 2.0//EN
METHOD:PUBLISH
X-PUBLISHED-TTL:P3D
REFRESH-INTERVAL:P3D
CALSCALE:GREGORIAN
BEGIN:VEVENT
DTSTART:20251025T170000Z
DTEND:20251025T193000Z
X-MICROSOFT-CDO-ALLDAYEVENT:FALSE
SUMMARY:Ipswich Downtown Trick or Treat
DESCRIPTION:The annual downtown Trick-or-Treat is a favorite tradition\, and all kids are welcome to dress up and trick-or-treat at local downtown stores.\n\n\n\nIpswich Downtown Trick or Treat will be held this year on Saturday\, October 25th\, from 1:00 pm to 3:30 pm\; rain or shine!\n\n\n\nSponsored by the Ipswich Business Roundtable.
X-ALT-DESC;FMTTYPE=text/html:<span style="font-size:16px\;">The annual downtown Trick-or-Treat is a favorite tradition\, and all kids are welcome to dress up and trick-or-treat at local downtown stores.<br />\n<br />\nIpswich&nbsp\;Downtown Trick or Treat will be held this year on Saturday\, October 25th\, from 1:00 pm to 3:30 pm\; rain or shine!<br />\n<br />\nSponsored by the Ipswich Business Roundtable.</span>
LOCATION:Downtown Ipswich
UID:e.2981.45115
SEQUENCE:3
DTSTAMP:20260425T024141Z
URL:https://business.capeannchamber.com/events/details/ipswich-downtown-trick-or-treat-45115
END:VEVENT

END:VCALENDAR
