BEGIN:VCALENDAR
VERSION:2.0
PRODID:-//ChamberMaster//Event Calendar 2.0//EN
METHOD:PUBLISH
X-PUBLISHED-TTL:P3D
REFRESH-INTERVAL:P3D
CALSCALE:GREGORIAN
BEGIN:VEVENT
DTSTART:20231213T220000Z
DTEND:20231214T000000Z
X-MICROSOFT-CDO-ALLDAYEVENT:FALSE
SUMMARY:Ipswich Division Holiday Party 2023
DESCRIPTION:Ipswich Division Holiday Party
X-ALT-DESC;FMTTYPE=text/html:Ipswich Division Holiday Party&nbsp\;&nbsp\;&nbsp\;&nbsp\;
LOCATION:Ipswich Ale Brewery
UID:e.2981.26746
SEQUENCE:3
DTSTAMP:20260421T214959Z
URL:https://business.capeannchamber.com/events/details/ipswich-division-holiday-party-2023-26746
END:VEVENT

END:VCALENDAR
