BEGIN:VCALENDAR
VERSION:2.0
PRODID:-//ChamberMaster//Event Calendar 2.0//EN
METHOD:PUBLISH
X-PUBLISHED-TTL:P3D
REFRESH-INTERVAL:P3D
CALSCALE:GREGORIAN
BEGIN:VEVENT
DTSTART:20220111T170000Z
DTEND:20220111T180000Z
X-MICROSOFT-CDO-ALLDAYEVENT:FALSE
SUMMARY:iPad Undergrad Learning Sessions at Sawyer Free Library
DESCRIPTION:Need help understanding your iPad? Enroll in iPad Undergrad\, a free three-session class with Technology Assistant Librarian\, Joann. Learn about settings\, apps\, Siri\, and more. Registration required at sawyerfreelibrary.org. Questions contact: Joann Dunajski at jdunajski@sawyerfreelibrary.org or 978-325-5568.
X-ALT-DESC;FMTTYPE=text/html:<span style="color:black\; font-family:helvetica\; font-size:10pt">Need help&nbsp\;understanding your iPad? Enroll in iPad Undergrad\, a free three-session class&nbsp\;with Technology Assistant Librarian\,&nbsp\;Joann. Learn about settings\, apps\, Siri\,&nbsp\;and more. Registration required at sawyerfreelibrary.org.&nbsp\;Questions contact: Joann&nbsp\;Dunajski at&nbsp\;jdunajski@sawyerfreelibrary.org&nbsp\;or&nbsp\;978-325-5568.</span><br />\n&nbsp\;
LOCATION:Sawyer Free Library\, 2 Dale Avenue\, Gloucester\, MA
UID:e.2981.21730
SEQUENCE:3
DTSTAMP:20260424T100355Z
URL:https://business.capeannchamber.com/events/details/ipad-undergrad-learning-sessions-at-sawyer-free-library-21730
END:VEVENT

END:VCALENDAR
