BEGIN:VCALENDAR
VERSION:2.0
PRODID:-//ChamberMaster//Event Calendar 2.0//EN
METHOD:PUBLISH
X-PUBLISHED-TTL:P3D
REFRESH-INTERVAL:P3D
CALSCALE:GREGORIAN
BEGIN:VEVENT
DTSTART:20250817T020000Z
DTEND:20250904T210000Z
X-MICROSOFT-CDO-ALLDAYEVENT:FALSE
SUMMARY:Inyo: Yin and Yang of an Artist — Jennifer Jean Okumura Solo Show\, Rockport Art Association & Museum
DESCRIPTION:Inyo: Yin and Yang of an Artist   Jennifer Jean Okumura Solo Show\, Rockport Art Association & Museum\n\nAugust 16 - September 4\, 2025\n\nReception: Saturday\, August 16\, 2025\, 1:00 - 3:00 PM\n\nStatement from the Artist: Inyo refers to the place of the great spirit\, the believer's heart\, seen as the creator and sustainer of all things. As artists\, we are the creators and sustainers of our creations\, representing yin and yang-the two colors coexist yet are separate\, representing positive and negative energies. This show is dark and light patterns in any artist's career\, aka change and difference. Enjoy a glimpse into mine.
X-ALT-DESC;FMTTYPE=text/html:<span style="font-size:12px">Inyo: Yin and Yang of an Artist &mdash\; Jennifer Jean Okumura Solo Show\, Rockport Art Association &amp\; Museum<br />\nAugust 16 - September 4\, 2025<br />\n<strong>Reception: Saturday\, August 16\, 2025\, 1:00 - 3:00 PM</strong></span><br />\n<span style="font-size:12px">Statement from the Artist:&nbsp\;<span style="color:rgb(0\, 0\, 0)\; font-family:helvetica">Inyo refers to the place of the great spirit\, the believer&#39\;s heart\, seen as the creator and sustainer of all things. As artists\, we are the creators and sustainers of our creations\, representing yin and yang-the two colors coexist yet are separate\, representing positive and negative energies. This show is dark and light patterns in any artist&#39\;s career\, aka change and difference. Enjoy a glimpse into mine.</span></span><br />\n&nbsp\;
LOCATION:Rockport Art Association & Museum 12 Main Street Rockport\, MA 01966
UID:e.2981.41380
SEQUENCE:3
DTSTAMP:20260425T011840Z
URL:https://business.capeannchamber.com/events/details/inyo-yin-and-yang-of-an-artist-jennifer-jean-okumura-solo-show-rockport-art-association-museum-41380
END:VEVENT

END:VCALENDAR
